BEGIN:VCALENDAR
VERSION:2.0
PRODID:-//Insight Meditation South Bay - ECPv6.15.20//NONSGML v1.0//EN
CALSCALE:GREGORIAN
METHOD:PUBLISH
X-ORIGINAL-URL:https://www.imsb.org
X-WR-CALDESC:Events for Insight Meditation South Bay
REFRESH-INTERVAL;VALUE=DURATION:PT1H
X-Robots-Tag:noindex
X-PUBLISHED-TTL:PT1H
BEGIN:VTIMEZONE
TZID:America/Los_Angeles
BEGIN:DAYLIGHT
TZOFFSETFROM:-0800
TZOFFSETTO:-0700
TZNAME:PDT
DTSTART:20170312T100000
END:DAYLIGHT
BEGIN:STANDARD
TZOFFSETFROM:-0700
TZOFFSETTO:-0800
TZNAME:PST
DTSTART:20171105T090000
END:STANDARD
BEGIN:DAYLIGHT
TZOFFSETFROM:-0800
TZOFFSETTO:-0700
TZNAME:PDT
DTSTART:20180311T100000
END:DAYLIGHT
BEGIN:STANDARD
TZOFFSETFROM:-0700
TZOFFSETTO:-0800
TZNAME:PST
DTSTART:20181104T090000
END:STANDARD
BEGIN:DAYLIGHT
TZOFFSETFROM:-0800
TZOFFSETTO:-0700
TZNAME:PDT
DTSTART:20190310T100000
END:DAYLIGHT
BEGIN:STANDARD
TZOFFSETFROM:-0700
TZOFFSETTO:-0800
TZNAME:PST
DTSTART:20191103T090000
END:STANDARD
END:VTIMEZONE
BEGIN:VEVENT
DTSTART;TZID=America/Los_Angeles:20180705T191500
DTEND;TZID=America/Los_Angeles:20180705T210000
DTSTAMP:20260419T093120
CREATED:20180326T155010Z
LAST-MODIFIED:20180617T213857Z
UID:10008904-1530818100-1530824400@www.imsb.org
SUMMARY:No Meeting Tonight
DESCRIPTION:Our usual Thursday evening class or meditation session has been cancelled for tonight. \nPlease join us next week!
URL:https://www.imsb.org/event/no-meeting-tonight-4/2018-07-05/
LOCATION:Westhope Presbyterian Church\, 12850 Saratoga Ave\, Saratoga\, CA\, 95070\, United States
CATEGORIES:Thursday Class
ORGANIZER;CN="IMSB contact":MAILTO:Click on link under Organizer.
GEO:37.2819775;-122.0012909
X-APPLE-STRUCTURED-LOCATION;VALUE=URI;X-ADDRESS=Westhope Presbyterian Church 12850 Saratoga Ave Saratoga CA 95070 United States;X-APPLE-RADIUS=500;X-TITLE=12850 Saratoga Ave:geo:-122.0012909,37.2819775
END:VEVENT
END:VCALENDAR