BEGIN:VCALENDAR
VERSION:2.0
PRODID:-//Insight Meditation South Bay - ECPv6.15.20//NONSGML v1.0//EN
CALSCALE:GREGORIAN
METHOD:PUBLISH
X-ORIGINAL-URL:https://www.imsb.org
X-WR-CALDESC:Events for Insight Meditation South Bay
REFRESH-INTERVAL;VALUE=DURATION:PT1H
X-Robots-Tag:noindex
X-PUBLISHED-TTL:PT1H
BEGIN:VTIMEZONE
TZID:America/Los_Angeles
BEGIN:DAYLIGHT
TZOFFSETFROM:-0800
TZOFFSETTO:-0700
TZNAME:PDT
DTSTART:20190310T100000
END:DAYLIGHT
BEGIN:STANDARD
TZOFFSETFROM:-0700
TZOFFSETTO:-0800
TZNAME:PST
DTSTART:20191103T090000
END:STANDARD
BEGIN:DAYLIGHT
TZOFFSETFROM:-0800
TZOFFSETTO:-0700
TZNAME:PDT
DTSTART:20200308T100000
END:DAYLIGHT
BEGIN:STANDARD
TZOFFSETFROM:-0700
TZOFFSETTO:-0800
TZNAME:PST
DTSTART:20201101T090000
END:STANDARD
BEGIN:DAYLIGHT
TZOFFSETFROM:-0800
TZOFFSETTO:-0700
TZNAME:PDT
DTSTART:20210314T100000
END:DAYLIGHT
BEGIN:STANDARD
TZOFFSETFROM:-0700
TZOFFSETTO:-0800
TZNAME:PST
DTSTART:20211107T090000
END:STANDARD
END:VTIMEZONE
BEGIN:VEVENT
DTSTART;TZID=America/Los_Angeles:20201006T183000
DTEND;TZID=America/Los_Angeles:20201006T200000
DTSTAMP:20260419T154113
CREATED:20200725T213916Z
LAST-MODIFIED:20200923T164334Z
UID:10009217-1602009000-1602014400@www.imsb.org
SUMMARY:Tuesday Online — Shaila Catherine — End of the Path
DESCRIPTION:Tuesday Online\nEnd of the Path\nwith Shaila Catherine \nThis is a two part series:\nOctober 6\, 2020\nOctober 13\, 2020\n \nEveryone is welcome. It is not necessary to attend the first session in order to attend the second. \nYou may enjoy reading the sutta (MN 105 To Sunakkhatta) in advance. Shaila will refer to this sutta in her talks. \n\nhttps://suttacentral.net/mn105/en/sujato\n\nDue to the coronavirus concerns\, we are holding our Tuesday meetings online.  \nPlease join us on Zoom. This event is appropriate for newcomers as well as experienced practitioners. The evening includes silent or guided meditation and teachings. \nTakes place on Zoom! \nJoin the Zoom Meeting\nhttps://us02web.zoom.us/j/88266320362?pwd=QWZpb2svQk9xZCtvWTZraXF5WTFKZz09 \nMeeting ID: 882 6632 0362\nPassword: metta4all \nOne tap mobile\n+16699006833\,\,88266320362# US (San Jose)\n+12532158782\,\,88266320362# US (Tacoma) \nDial by your location\n+1 669 900 6833 US (San Jose)\n+1 253 215 8782 US (Tacoma)\n+1 346 248 7799 US (Houston)\n+1 929 205 6099 US (New York)\n+1 301 715 8592 US (Germantown)\n+1 312 626 6799 US (Chicago)\nMeeting ID: 882 6632 0362\nFind your local number: https://us02web.zoom.us/u/kcSiCSJ1bl \n\nTEACHERS: Please visit our Teachers Page for biographies and photos of our speakers. \nTUESDAYS ONLINE: Due to coronavirus concerns\, we have converted our Tuesday evening meeting to an online format with teachings offered by Shaila Catherine and an array of guest teachers. This online group meets 6:30 – 8:00 PM Pacific Time\, which makes it possible for local members to join us after their workday\, and for East Coast friends to sit with us before bed. \nEveryone is welcome. Please share this event with your friends. \nDANA/DONATIONS: IMSB relies upon the generosity of participants to support our teachers and cover organizational expenses that continue whether we are meeting in-person or online. Dana is a word in the ancient Pali language that describes donations\, offerings and generosity. We encourage you to give joyfully and generously\, according to your resources and means. IMSB is a 501(c) (3) organization. All donations are tax deductible as permitted by law. \nPlease support our programs and teachers with your donations. We especially encourage recurring monthly donations to help us through these difficult months of the pandemic. Donations can be made through our Donation Page. Recurring donations can be made through Network for Good or PayPal. \nFUTURE IN-PERSON GATHERINGS: When it is wise to do so\, Insight Meditation South Bay anticipates continuing our program of two weekly meditation programs. On Tuesdays\, we meet in Mountain View for our drop-in weekly program of meditation and teachings. Our Tuesday evening program usually includes a sitting meditation and Dhamma talk. The principal teacher is Shaila Catherine and guest speakers are featured regularly. Thematic series are periodically presented\, but whether or not a topic has been advertised in advance\, Shaila or a guest teacher will lead the sitting and offer teachings. On Thursdays\, we meet in Saratoga for our Dhamma Classroom\, for a series of structured courses with registration\, and periodic drop-in practice events.
URL:https://www.imsb.org/event/tuesday-online-20200915/2020-10-06/
LOCATION:Online
CATEGORIES:Featured Events,Online Programs,Weekly Meditation
ORGANIZER;CN="IMSB contact":MAILTO:Click on link under Organizer.
END:VEVENT
BEGIN:VEVENT
DTSTART;TZID=America/Los_Angeles:20201013T183000
DTEND;TZID=America/Los_Angeles:20201013T200000
DTSTAMP:20260419T154113
CREATED:20200725T213916Z
LAST-MODIFIED:20201009T041254Z
UID:10009218-1602613800-1602619200@www.imsb.org
SUMMARY:Tuesday Online — Shaila Catherine — Awakening
DESCRIPTION:Tuesday Online: Awakening\nwith Shaila Catherine \nOctober 13\, 2020\n \nThis talk will consider what the transformative experience of awakening entails\, how it might be recognized\, and how a practitioner declares their attainment. \nDue to the coronavirus concerns\, we are holding our Tuesday meetings online.  \nPlease join us on Zoom. This event is appropriate for newcomers as well as experienced practitioners. The evening includes silent or guided meditation and teachings. \nTakes place on Zoom! \nJoin the Zoom Meeting\nhttps://us02web.zoom.us/j/88266320362?pwd=QWZpb2svQk9xZCtvWTZraXF5WTFKZz09 \nMeeting ID: 882 6632 0362\nPassword: metta4all \nOne tap mobile\n+16699006833\,\,88266320362# US (San Jose)\n+12532158782\,\,88266320362# US (Tacoma) \nDial by your location\n+1 669 900 6833 US (San Jose)\n+1 253 215 8782 US (Tacoma)\n+1 346 248 7799 US (Houston)\n+1 929 205 6099 US (New York)\n+1 301 715 8592 US (Germantown)\n+1 312 626 6799 US (Chicago)\nMeeting ID: 882 6632 0362\nFind your local number: https://us02web.zoom.us/u/kcSiCSJ1bl \n\nTEACHERS: Please visit our Teachers Page for biographies and photos of our speakers. \nTUESDAYS ONLINE: Due to coronavirus concerns\, we have converted our Tuesday evening meeting to an online format with teachings offered by Shaila Catherine and an array of guest teachers. This online group meets 6:30 – 8:00 PM Pacific Time\, which makes it possible for local members to join us after their workday\, and for East Coast friends to sit with us before bed. \nEveryone is welcome. Please share this event with your friends. \nDANA/DONATIONS: IMSB relies upon the generosity of participants to support our teachers and cover organizational expenses that continue whether we are meeting in-person or online. Dana is a word in the ancient Pali language that describes donations\, offerings and generosity. We encourage you to give joyfully and generously\, according to your resources and means. IMSB is a 501(c) (3) organization. All donations are tax deductible as permitted by law. \nPlease support our programs and teachers with your donations. We especially encourage recurring monthly donations to help us through these difficult months of the pandemic. Donations can be made through our Donation Page. Recurring donations can be made through Network for Good or PayPal. \nFUTURE IN-PERSON GATHERINGS: When it is wise to do so\, Insight Meditation South Bay anticipates continuing our program of two weekly meditation programs. On Tuesdays\, we meet in Mountain View for our drop-in weekly program of meditation and teachings. Our Tuesday evening program usually includes a sitting meditation and Dhamma talk. The principal teacher is Shaila Catherine and guest speakers are featured regularly. Thematic series are periodically presented\, but whether or not a topic has been advertised in advance\, Shaila or a guest teacher will lead the sitting and offer teachings. On Thursdays\, we meet in Saratoga for our Dhamma Classroom\, for a series of structured courses with registration\, and periodic drop-in practice events.
URL:https://www.imsb.org/event/tuesday-online-20200915-2020-10-13/
LOCATION:Online
CATEGORIES:Featured Events,Online Programs,Weekly Meditation
ORGANIZER;CN="IMSB contact":MAILTO:Click on link under Organizer.
END:VEVENT
BEGIN:VEVENT
DTSTART;TZID=America/Los_Angeles:20201019T170000
DTEND;TZID=America/Los_Angeles:20201019T190000
DTSTAMP:20260419T154113
CREATED:20190922T013737Z
LAST-MODIFIED:20200807T005502Z
UID:10009163-1603126800-1603134000@www.imsb.org
SUMMARY:Monthly Sutta Study Group – Digha Nikaya – Online
DESCRIPTION:Long Discourses of the Buddha\nwith Shaila Catherine \nOur nine month Sutta Study Course on the Digha Nikaya will run for 9 months beginning in January 2020. We meet in three locations to serve the local and online community: \n\nFriday mornings in Palo Alto\nWednesday evenings in Menlo Park\nMonday evenings online\n\nEnrollment will remain open for this course until the second monthly meeting\, and then closes for the remainder of the year. \nRegistration details are on our Sutta Study Course 2020 page. \nNewcomers are welcome to join each year. General information about the sutta study program can be found on our Sutta Study Courses page. \nScheduled dates for meetings Mondays Online: \n\nJanuary 27\nNo meeting in February.\nMarch 9\nApril 20\nMay 25\nJune 22\nJuly 20\nAugust 3\nSeptember 21\nOctober 19 for final session
URL:https://www.imsb.org/event/monthly-sutta-study-group-digha-nikaya-online-2/2020-10-19/
LOCATION:Online
CATEGORIES:Dhamma Study,Online Programs
ORGANIZER;CN="Sutta Study Coordinator":MAILTO:Click on link under Organizer.
END:VEVENT
BEGIN:VEVENT
DTSTART;TZID=America/Los_Angeles:20201020T183000
DTEND;TZID=America/Los_Angeles:20201020T200000
DTSTAMP:20260419T154113
CREATED:20200820T172738Z
LAST-MODIFIED:20200923T164551Z
UID:10009224-1603218600-1603224000@www.imsb.org
SUMMARY:Tuesday Online: Kim Allen—Real Wealth
DESCRIPTION:Tuesday Online: Kim Allen—Real Wealth\nwith Kim Allen \nOctober 20\, 2020 \nWhat kinds of wealth are most sustainable in times of loss? The Buddha defined five kinds of wealth that are especially appropriate for lay practitioners to develop: Confidence\, ethical conduct\, learning\, generosity\, and wisdom. The inclusion of “learning” is interesting and not often emphasized. We will explore these five qualities in the context of our current times\, considering how they can serve both ourselves and others. \nPlease join us on Zoom. This event is appropriate for newcomers as well as experienced practitioners. The evening includes silent or guided meditation and teachings. \n  \nTakes place on Zoom! \nJoin the Zoom Meeting\nhttps://us02web.zoom.us/j/88266320362?pwd=QWZpb2svQk9xZCtvWTZraXF5WTFKZz09 \nMeeting ID: 882 6632 0362\nPassword: metta4all \nOne tap mobile\n+16699006833\,\,88266320362# US (San Jose)\n+12532158782\,\,88266320362# US (Tacoma) \nDial by your location\n+1 669 900 6833 US (San Jose)\n+1 253 215 8782 US (Tacoma)\n+1 346 248 7799 US (Houston)\n+1 929 205 6099 US (New York)\n+1 301 715 8592 US (Germantown)\n+1 312 626 6799 US (Chicago)\nMeeting ID: 882 6632 0362\nFind your local number: https://us02web.zoom.us/u/kcSiCSJ1bl \n  \n\n  \nTEACHERS: Please visit our Teachers Page for biographies and photos of our speakers. \nTUESDAYS ONLINE: Due to coronavirus concerns\, we have converted our Tuesday evening meeting to an online format with teachings offered by Shaila Catherine and an array of guest teachers. This online group meets 6:30 – 8:00 PM Pacific Time\, which makes it possible for local members to join us after their workday\, and for East Coast friends to sit with us before bed. \nEveryone is welcome. Please share this event with your friends. \nDANA/DONATIONS: IMSB relies upon the generosity of participants to support our teachers and cover organizational expenses that continue whether we are meeting in-person or online. Dana is a word in the ancient Pali language that describes donations\, offerings and generosity. We encourage you to give joyfully and generously\, according to your resources and means. IMSB is a 501(c) (3) organization. All donations are tax deductible as permitted by law. \nPlease support our programs and teachers with your donations. We especially encourage recurring monthly donations to help us through these difficult months of the pandemic. Donations can be made through our Donation Page. Recurring donations can be made through Network for Good or PayPal. \nFUTURE IN-PERSON GATHERINGS: When it is wise to do so\, Insight Meditation South Bay anticipates continuing our program of two weekly meditation programs. On Tuesdays\, we meet in Mountain View for our drop-in weekly program of meditation and teachings. Our Tuesday evening program usually includes a sitting meditation and Dhamma talk. The principal teacher is Shaila Catherine and guest speakers are featured regularly. Thematic series are periodically presented\, but whether or not a topic has been advertised in advance\, Shaila or a guest teacher will lead the sitting and offer teachings. On Thursdays\, we meet in Saratoga for our Dhamma Classroom\, for a series of structured courses with registration\, and periodic drop-in practice events.
URL:https://www.imsb.org/event/tuesday-online-kim-allen/
LOCATION:Online
CATEGORIES:Featured Events,Guests and Series,Online Programs,Weekly Meditation
ORGANIZER;CN="IMSB contact":MAILTO:Click on link under Organizer.
END:VEVENT
BEGIN:VEVENT
DTSTART;VALUE=DATE:20201023
DTEND;VALUE=DATE:20201026
DTSTAMP:20260419T154113
CREATED:20200709T025249Z
LAST-MODIFIED:20201023T002257Z
UID:10009211-1603411200-1603670399@www.imsb.org
SUMMARY:ONLINE RETREAT - Four Elements Meditation
DESCRIPTION:Registration has now closed.\nExploring Mindfulness of the Body and the Four Elements\nWith Shaila Catherine\nAn At-home Online Retreat\nRegistration is required. Scroll down to choose a ticket level. Registration will close at 2-3 days prior to the retreat\, so don’t wait!\nThis at-home online weekend retreat will include precise instructions and ample support for exploring the body as composed of the Four Great Elements. These practices are included in the first establishment of mindfulness presented in the Satipatthana Sutta. The four elements meditation practices are a traditional method for examining the body\, the nature of matter\, and all material experiences. \nPlease join us as we deepen our practice together through a program of live video conferences with Shaila Catherine. The online meetings will include guided meditations\, Dharma talks\, question and answer sessions\, and small group discussions. More information and a link to join the video conferences will be emailed after registering. \nRETREAT SCHEDULE (Times are given in Pacific Time PDT) \nFriday\n5:30 – 7:00 pm – Opening Session – Mindfulness of the Body \nSaturday\n8:00 – 8:45 am – Morning Meditation – Meditating on the Body\n10:00 am – 12:00 noon –  Morning Session – Discerning Earth and Wind\n2:00 – 4:00 pm – Afternoon Session – Discerning Fire and Water \nSunday\n8:00 – 8:45 am – Morning Meditation – The Nature of Matter\n10:00 am – 12:00 noon –  Morning Session – The Emptiness of Matter and Wrap Up. \nRecommended Reading: Wisdom Wide and Deep\, by Shaila Catherine. If you have access to this book\, please read the first 18 pages of Chapter 12\, Explorations of Matter: Four Elements Meditation to prepare for the weekend program. \nVisit our Founding Teacher page for biography and photograph of the teacher\, Shaila Catherine. \nQuestions?: For more information contact meditate \nCo-sponsored by Bodhi-Retreats and Insight Meditation South Bay \n\n\nRegistration: Registration is required for this course. Registration fees are non-refundable. To register\, select an option under the Tickets heading at the bottom of this page. To register for a course\, you purchase one ticket\, which registers you for the entire course. You only need to register once; you do not need to register separately for each class session. \nCourse Fee: The non-refundable registration fee is based on a sliding scale of $600 to $190. The lower end of the sliding scale is intended for those with limited financial means. If you pay at the mid to high range of the sliding scale\, your generosity supports those with limited income to attend our programs\, and also supports the teacher. Our teacher relies upon the generosity of students for her livelihood\, so we encourage you to choose the highest level that is appropriate for your economic situation. Thank you for your generosity! The ticketing process will give you the option of paying by credit card\, Pay Pal\, or by mailing a check. \nTeacher Dana: Donations to support the teacher are much appreciated. Opportunities to give are listed on our Donate page. The Base Rate and Scholarship Rate do not include Teacher Dana. \nScholarship Assistance: A scholarship rate of $105 is offered for those with very limited financial means. Simply choose the $105 ticket below. \nTax Deductions: The basic registration fee (Base Rate of $190)\, and the scholarship tickets do not include teacher dana and are not tax deductible. By selecting a ticket level above $190\, you will be contributing to teacher dana and the amount above $190 will be considered a voluntary tax deductible Teacher Dana contribution. In January of the following year\, the treasurer will mail a letter acknowledging all donations made in the preceding year for your tax records. \nCancellation Policy: All fees and payments are non-refundable. If it becomes necessary to cancel participation in a course\, and the registrar is notified prior to the start of the first meeting\, your registration fee will be converted into a voucher creditable towards the fee for either a future IMSB or Bodhi-Retreats program. Vouchers must be used within one year of the initial course start date\, and may be transferred to only one future course. Cancellations that occur after the start of the first meeting are not eligible for the voucher credit. \nMailing List\nYou may  join our mailing list to receive a notifications about future events.
URL:https://www.imsb.org/event/online-retreat-four-elements-meditation/
LOCATION:Online
CATEGORIES:Online Programs,Retreats with Shaila
ORGANIZER;CN="IMSB contact":MAILTO:Click on link under Organizer.
END:VEVENT
BEGIN:VEVENT
DTSTART;TZID=America/Los_Angeles:20201027T183000
DTEND;TZID=America/Los_Angeles:20201027T200000
DTSTAMP:20260419T154113
CREATED:20200820T173417Z
LAST-MODIFIED:20200930T051755Z
UID:10009225-1603823400-1603828800@www.imsb.org
SUMMARY:Tuesday Online: Maria Straatmann—Confidence\, Uncertainty and the Five Aggregates
DESCRIPTION:Tuesday Online: Maria Straatmann—Confidence\, Uncertainty and the Five Aggregates\nwith Maria Straatmann \nOctober 27\, 2020 \nIn times of uncertainty we tend to reinforce those things that lend themselves to feeling safe and familiar\, usually by reaffirming a sense of self that says\, “This is right; this is who I am; this is how things should be.”  The way we do this is described in Buddhism with the five aggregates\, the ways we experience\, perceive\, and interpret reality. We will discuss understanding and seeing clearly these ways of experience and how awareness of them may lead to freedom from suffering. \nPlease join us on Zoom. This event is appropriate for newcomers as well as experienced practitioners. The evening includes silent or guided meditation and teachings. \n  \nTakes place on Zoom! \nJoin the Zoom Meeting\nhttps://us02web.zoom.us/j/88266320362?pwd=QWZpb2svQk9xZCtvWTZraXF5WTFKZz09 \nMeeting ID: 882 6632 0362\nPassword: metta4all \nOne tap mobile\n+16699006833\,\,88266320362# US (San Jose)\n+12532158782\,\,88266320362# US (Tacoma) \nDial by your location\n+1 669 900 6833 US (San Jose)\n+1 253 215 8782 US (Tacoma)\n+1 346 248 7799 US (Houston)\n+1 929 205 6099 US (New York)\n+1 301 715 8592 US (Germantown)\n+1 312 626 6799 US (Chicago)\nMeeting ID: 882 6632 0362\nFind your local number: https://us02web.zoom.us/u/kcSiCSJ1bl \n  \n\n  \nTEACHERS: Please visit our Teachers Page for biographies and photos of our speakers. \nTUESDAYS ONLINE: Due to coronavirus concerns\, we have converted our Tuesday evening meeting to an online format with teachings offered by Shaila Catherine and an array of guest teachers. This online group meets 6:30 – 8:00 PM Pacific Time\, which makes it possible for local members to join us after their workday\, and for East Coast friends to sit with us before bed. \nEveryone is welcome. Please share this event with your friends. \nDANA/DONATIONS: IMSB relies upon the generosity of participants to support our teachers and cover organizational expenses that continue whether we are meeting in-person or online. Dana is a word in the ancient Pali language that describes donations\, offerings and generosity. We encourage you to give joyfully and generously\, according to your resources and means. IMSB is a 501(c) (3) organization. All donations are tax deductible as permitted by law. \nPlease support our programs and teachers with your donations. We especially encourage recurring monthly donations to help us through these difficult months of the pandemic. Donations can be made through our Donation Page. Recurring donations can be made through Network for Good or PayPal. \nFUTURE IN-PERSON GATHERINGS: When it is wise to do so\, Insight Meditation South Bay anticipates continuing our program of two weekly meditation programs. On Tuesdays\, we meet in Mountain View for our drop-in weekly program of meditation and teachings. Our Tuesday evening program usually includes a sitting meditation and Dhamma talk. The principal teacher is Shaila Catherine and guest speakers are featured regularly. Thematic series are periodically presented\, but whether or not a topic has been advertised in advance\, Shaila or a guest teacher will lead the sitting and offer teachings. On Thursdays\, we meet in Saratoga for our Dhamma Classroom\, for a series of structured courses with registration\, and periodic drop-in practice events.
URL:https://www.imsb.org/event/tuesday-online-maria-straatmann/
LOCATION:Online
CATEGORIES:Featured Events,Guests and Series,Online Programs,Weekly Meditation
ORGANIZER;CN="IMSB contact":MAILTO:Click on link under Organizer.
END:VEVENT
END:VCALENDAR