BEGIN:VCALENDAR
VERSION:2.0
PRODID:-//Insight Meditation South Bay - ECPv6.15.20//NONSGML v1.0//EN
CALSCALE:GREGORIAN
METHOD:PUBLISH
X-WR-CALNAME:Insight Meditation South Bay
X-ORIGINAL-URL:https://www.imsb.org
X-WR-CALDESC:Events for Insight Meditation South Bay
REFRESH-INTERVAL;VALUE=DURATION:PT1H
X-Robots-Tag:noindex
X-PUBLISHED-TTL:PT1H
BEGIN:VTIMEZONE
TZID:America/Los_Angeles
BEGIN:DAYLIGHT
TZOFFSETFROM:-0800
TZOFFSETTO:-0700
TZNAME:PDT
DTSTART:20190310T100000
END:DAYLIGHT
BEGIN:STANDARD
TZOFFSETFROM:-0700
TZOFFSETTO:-0800
TZNAME:PST
DTSTART:20191103T090000
END:STANDARD
BEGIN:DAYLIGHT
TZOFFSETFROM:-0800
TZOFFSETTO:-0700
TZNAME:PDT
DTSTART:20200308T100000
END:DAYLIGHT
BEGIN:STANDARD
TZOFFSETFROM:-0700
TZOFFSETTO:-0800
TZNAME:PST
DTSTART:20201101T090000
END:STANDARD
BEGIN:DAYLIGHT
TZOFFSETFROM:-0800
TZOFFSETTO:-0700
TZNAME:PDT
DTSTART:20210314T100000
END:DAYLIGHT
BEGIN:STANDARD
TZOFFSETFROM:-0700
TZOFFSETTO:-0800
TZNAME:PST
DTSTART:20211107T090000
END:STANDARD
END:VTIMEZONE
BEGIN:VEVENT
DTSTART;VALUE=DATE:20200927
DTEND;VALUE=DATE:20200928
DTSTAMP:20260422T051914
CREATED:20200505T063715Z
LAST-MODIFIED:20200505T063715Z
UID:10009194-1601164800-1601251199@www.imsb.org
SUMMARY:Registration closes today for Beyond Distraction\, an in-depth online course
DESCRIPTION:Beyond Distraction: Strategies to Free The Mind\nREGISTER: Now — Sep 27\, 2020\nCOURSE: Sep 30 — Dec 30\, 2020\nMental restlessness is an insidious and pervasive hindrance that most practitioners struggle to overcome. How many times have you let go of a thought\, only to find it morph into a similar story a few minutes later? \nMany kinds of thoughts can distract us from being mindful and disrupt our concentration: obsessive planning\, worrying\, lustful thoughts\, judging\, memories\, and internal commentaries\, to name a few. This course will explore a sequence of practical strategies for dealing with obstructive mental patterns derived from two discourses taught by the Buddha (MN 19 and 20). \n\nTwo Kinds of Thought\nThe Removal of Distracting Thoughts\n\nEach learning module in the course is enriched with lectures\, guided meditations\, exercises\, related sutta readings\, discussion forums\, and audio conferences with the teacher. A variety of reflective exercises will help you integrate these ancient strategies into daily life situations. \nFor more information and registration details go to BodhiCourses.org. \nCo-sponsored by Bodhi Courses and Insight Meditation South Bay
URL:https://www.imsb.org/event/registration-closes-today-for-beyond-distraction-an-in-depth-online-course/
LOCATION:Online
CATEGORIES:Online Programs
ORGANIZER;CN="Bodhi Courses Online":MAILTO:Click on link under Organizer.
END:VEVENT
END:VCALENDAR