BEGIN:VCALENDAR
VERSION:2.0
PRODID:-//Insight Meditation South Bay - ECPv6.15.20//NONSGML v1.0//EN
CALSCALE:GREGORIAN
METHOD:PUBLISH
X-ORIGINAL-URL:https://www.imsb.org
X-WR-CALDESC:Events for Insight Meditation South Bay
REFRESH-INTERVAL;VALUE=DURATION:PT1H
X-Robots-Tag:noindex
X-PUBLISHED-TTL:PT1H
BEGIN:VTIMEZONE
TZID:America/Los_Angeles
BEGIN:DAYLIGHT
TZOFFSETFROM:-0800
TZOFFSETTO:-0700
TZNAME:PDT
DTSTART:20190310T100000
END:DAYLIGHT
BEGIN:STANDARD
TZOFFSETFROM:-0700
TZOFFSETTO:-0800
TZNAME:PST
DTSTART:20191103T090000
END:STANDARD
BEGIN:DAYLIGHT
TZOFFSETFROM:-0800
TZOFFSETTO:-0700
TZNAME:PDT
DTSTART:20200308T100000
END:DAYLIGHT
BEGIN:STANDARD
TZOFFSETFROM:-0700
TZOFFSETTO:-0800
TZNAME:PST
DTSTART:20201101T090000
END:STANDARD
BEGIN:DAYLIGHT
TZOFFSETFROM:-0800
TZOFFSETTO:-0700
TZNAME:PDT
DTSTART:20210314T100000
END:DAYLIGHT
BEGIN:STANDARD
TZOFFSETFROM:-0700
TZOFFSETTO:-0800
TZNAME:PST
DTSTART:20211107T090000
END:STANDARD
END:VTIMEZONE
BEGIN:VEVENT
DTSTART;TZID=America/Los_Angeles:20200921T170000
DTEND;TZID=America/Los_Angeles:20200921T190000
DTSTAMP:20260422T231746
CREATED:20190922T013737Z
LAST-MODIFIED:20200807T005502Z
UID:10009162-1600707600-1600714800@www.imsb.org
SUMMARY:Monthly Sutta Study Group – Digha Nikaya – Online
DESCRIPTION:Long Discourses of the Buddha\nwith Shaila Catherine \nOur nine month Sutta Study Course on the Digha Nikaya will run for 9 months beginning in January 2020. We meet in three locations to serve the local and online community: \n\nFriday mornings in Palo Alto\nWednesday evenings in Menlo Park\nMonday evenings online\n\nEnrollment will remain open for this course until the second monthly meeting\, and then closes for the remainder of the year. \nRegistration details are on our Sutta Study Course 2020 page. \nNewcomers are welcome to join each year. General information about the sutta study program can be found on our Sutta Study Courses page. \nScheduled dates for meetings Mondays Online: \n\nJanuary 27\nNo meeting in February.\nMarch 9\nApril 20\nMay 25\nJune 22\nJuly 20\nAugust 3\nSeptember 21\nOctober 19 for final session
URL:https://www.imsb.org/event/monthly-sutta-study-group-digha-nikaya-online-2/2020-09-21/
LOCATION:Online
CATEGORIES:Dhamma Study,Online Programs
ORGANIZER;CN="Sutta Study Coordinator":MAILTO:Click on link under Organizer.
END:VEVENT
BEGIN:VEVENT
DTSTART;TZID=America/Los_Angeles:20200922T183000
DTEND;TZID=America/Los_Angeles:20200922T200000
DTSTAMP:20260422T231746
CREATED:20200725T214208Z
LAST-MODIFIED:20200818T224941Z
UID:10009219-1600799400-1600804800@www.imsb.org
SUMMARY:Tuesday Online - Shaila Catherine - Interconnection
DESCRIPTION:Tuesday Online\nTopic: Interconnection\nwith Shaila Catherine \nSeptember 22\, 2020 \nDue to the coronavirus concerns\, we are holding our Tuesday meetings online.  \nPlease join us on Zoom. This event is appropriate for newcomers as well as experienced practitioners. The evening includes silent or guided meditation and teachings. \nTakes place on Zoom! \nJoin the Zoom Meeting\nhttps://us02web.zoom.us/j/88266320362?pwd=QWZpb2svQk9xZCtvWTZraXF5WTFKZz09 \nMeeting ID: 882 6632 0362\nPassword: metta4all \nOne tap mobile\n+16699006833\,\,88266320362# US (San Jose)\n+12532158782\,\,88266320362# US (Tacoma) \nDial by your location\n+1 669 900 6833 US (San Jose)\n+1 253 215 8782 US (Tacoma)\n+1 346 248 7799 US (Houston)\n+1 929 205 6099 US (New York)\n+1 301 715 8592 US (Germantown)\n+1 312 626 6799 US (Chicago)\nMeeting ID: 882 6632 0362\nFind your local number: https://us02web.zoom.us/u/kcSiCSJ1bl \n  \n\nTEACHERS: Please visit our Teachers Page for biographies and photos of our speakers. \nTUESDAYS ONLINE: Due to coronavirus concerns\, we have converted our Tuesday evening meeting to an online format with teachings offered by Shaila Catherine and an array of guest teachers. This online group meets 6:30 – 8:00 PM Pacific Time\, which makes it possible for local members to join us after their workday\, and for East Coast friends to sit with us before bed. \nEveryone is welcome. Please share this event with your friends. \nDANA/DONATIONS: IMSB relies upon the generosity of participants to support our teachers and cover organizational expenses that continue whether we are meeting in-person or online. Dana is a word in the ancient Pali language that describes donations\, offerings and generosity. We encourage you to give joyfully and generously\, according to your resources and means. IMSB is a 501(c) (3) organization. All donations are tax deductible as permitted by law. \nPlease support our programs and teachers with your donations. We especially encourage recurring monthly donations to help us through these difficult months of the pandemic. Donations can be made through our Donation Page. Recurring donations can be made through Network for Good or PayPal. \nFUTURE IN-PERSON GATHERINGS: When it is wise to do so\, Insight Meditation South Bay anticipates continuing our program of two weekly meditation programs. On Tuesdays\, we meet in Mountain View for our drop-in weekly program of meditation and teachings. Our Tuesday evening program usually includes a sitting meditation and Dhamma talk. The principal teacher is Shaila Catherine and guest speakers are featured regularly. Thematic series are periodically presented\, but whether or not a topic has been advertised in advance\, Shaila or a guest teacher will lead the sitting and offer teachings. On Thursdays\, we meet in Saratoga for our Dhamma Classroom\, for a series of structured courses with registration\, and periodic drop-in practice events.
URL:https://www.imsb.org/event/tuesday-online-20200922/
LOCATION:Online
CATEGORIES:Featured Events,Online Programs,Weekly Meditation
ORGANIZER;CN="IMSB contact":MAILTO:Click on link under Organizer.
END:VEVENT
END:VCALENDAR