BEGIN:VCALENDAR
VERSION:2.0
PRODID:-//Insight Meditation South Bay - ECPv6.15.20//NONSGML v1.0//EN
CALSCALE:GREGORIAN
METHOD:PUBLISH
X-WR-CALNAME:Insight Meditation South Bay
X-ORIGINAL-URL:https://www.imsb.org
X-WR-CALDESC:Events for Insight Meditation South Bay
REFRESH-INTERVAL;VALUE=DURATION:PT1H
X-Robots-Tag:noindex
X-PUBLISHED-TTL:PT1H
BEGIN:VTIMEZONE
TZID:America/Los_Angeles
BEGIN:DAYLIGHT
TZOFFSETFROM:-0800
TZOFFSETTO:-0700
TZNAME:PDT
DTSTART:20210314T100000
END:DAYLIGHT
BEGIN:STANDARD
TZOFFSETFROM:-0700
TZOFFSETTO:-0800
TZNAME:PST
DTSTART:20211107T090000
END:STANDARD
BEGIN:DAYLIGHT
TZOFFSETFROM:-0800
TZOFFSETTO:-0700
TZNAME:PDT
DTSTART:20220313T100000
END:DAYLIGHT
BEGIN:STANDARD
TZOFFSETFROM:-0700
TZOFFSETTO:-0800
TZNAME:PST
DTSTART:20221106T090000
END:STANDARD
BEGIN:DAYLIGHT
TZOFFSETFROM:-0800
TZOFFSETTO:-0700
TZNAME:PDT
DTSTART:20230312T100000
END:DAYLIGHT
BEGIN:STANDARD
TZOFFSETFROM:-0700
TZOFFSETTO:-0800
TZNAME:PST
DTSTART:20231105T090000
END:STANDARD
END:VTIMEZONE
BEGIN:VEVENT
DTSTART;VALUE=DATE:20220503
DTEND;VALUE=DATE:20220513
DTSTAMP:20260422T070212
CREATED:20200405T003807Z
LAST-MODIFIED:20220430T192204Z
UID:10009185-1651536000-1652399999@www.imsb.org
SUMMARY:Concentration\, Jhana\, and Breath - Retreat in Northern California
DESCRIPTION:Concentration\, Jhana\, and Breath: a 9-night Meditation Retreat in Northern California\nled by Shaila Catherine\nTuesday\, May 3\, 2022 – Thursday\, May 12\, 2022.\nRegistration will end at 12:00 noon (Pacific Time) on Friday\, April 22. \nNOTE: Vaccination against COVID-19 is required to attend this retreat.  \nThe retreat begins with registration from 2:00 – 3:30 pm on Tuesday\, May 3. The retreat ends at 11:30 am on Thursday\, May 12. Early arrivals can be arranged for Monday\, May 2. \nPartial attendance is possible in some cases\, but it must begin on the first day of the retreat and priority will be given to those registering for the full retreat. \nThis retreat will utilize the breath as the primary meditation object and will encourage the development of meditative skills that lead to deep concentration (samadhi) and insight (vipassana). Daily group instructions will focus on the sixteen steps in the Anapanasati Sutta as a route to jhana and/or liberating insight. Meetings with the teacher in small groups and one-on-one dialogs will tailor the practices to meet the needs and interests of individual students. Some students may choose to emphasize concentration practice throughout the retreat; others may emphasize vipassana; and some may practice both concentration and insight inconjunction with mindfulness of breathing.  \nThis retreat offers a special opportunity to train in concentration and jhana practices with personal guidance from Shaila Catherine. It is one of the very few retreats each year in which Shaila systematically guides students to establish jhana by working step by step with the Anapanasati Sutta. See our Concentration and Jhana FAQ page for more information about developing concentration and the absorption states of jhana. \nThis silent retreat is structured with alternating periods of sitting and walking meditation\, dhamma teachings\, and teacher consultations. \nPrior to the retreat\, please read the first half of Focused and Fearless by Shaila Catherine\, and the Anapanasati Sutta. You may download the sutta at: https://suttacentral.net/mn118/en/bodhi \nRegister early! Space is limited.\nWe keep this retreat small (under 40 participants in non-pandemic years\, and considerably less when COVID restrictions are required) to enable in-depth guidance from Shaila. We have exclusive use of the retreat center for the duration of our program. Nestled in a quiet valley in Lake County of Northern California\, it offers a powerful and intimate environment for deep meditation practice. You will enjoy the benefits of natural beauty\, a spacious meditation hall\, access to walking trails\, an unheated pool and heated hot tub that may be used in silence. \nTO REGISTER: \nPlease use the online form at the link below to submit your registration and waiver forms. \n\nLink to Registration Form\n\nThis form will take approximately 20 minutes to fill out. Upon completion of the form you will receive an email with details for completing your payment. You have the option of paying the non-refundable deposit of $250 or the full retreat payment either by mailing a check to the registrar or by making a Zelle bank transfer. The address and account information for making this payment will be included in the registration confirmation email. \n\nIf we must cancel the retreat for any reason (such as if we are under shelter-in-place orders at the time of the retreat)\, we will return your deposit and fees\, however\, the $250 deposit remains non-refundable if you cancel your reservation. Details of our cancellation policy are on the registration form. \n\nREQUIREMENTS: The 9-night retreat is designed for experienced students who are fully vaccinated to protect against COVID-19. Previous retreat experience in the insight meditation tradition is required\, with a minimum of at least one week-long silent residential retreat. If you have less than one week-long silent retreat experience\, your attendance requires approval from the teacher. \nIf you wish to request an exception to the vaccination requirement\, contact the registrar. If extreme circumstances prohibit vaccination\, we will consider admitting a maximum of 2 unvaccinated participants who agree to strictly isolate for 14 days prior to the retreat\, can travel safely to the retreat\, and test negative for COVID-19 in the 3 days prior to the retreat. \nACCOMMODATIONS: The retreat facility is somewhat handicapped accessible. If you have mobility limitations\, please contact the registrar for details. \nThere are a variety of accommodations in cabins\, lodges\, and bunk rooms that include single\, double\, triple\, and quad occupancy. RV with hook up\, car camping\, tenting\, and two unheated wooden screened huts are also available. If you have a nice tent\, waterproof tarp\, and comfortable futon or sleeping pad then camping can be a delightful option at this retreat center. \nPlease note that this will be a non-smoking retreat.\nWe offer a nut-free meal plan to support those with severe nut allergies. \nCOST: Registration fees cover 9 nights and include administration\, accommodation and meals costs. There will be an opportunity to offer a donation to the teacher at the end of retreat. \nDue to precautions to prevent the spread of COVID-19\, we will not be assigning double occupancy rooms\, except for occasions when friends or couples register together. To provide single rooms we must leave the majority of beds unoccupied and run a very small retreat. Therefore\, most participants will need to select the single room option and a rate along the single room sliding scale. \n\nSingle occupancy sliding scale: $2800 – $1900 (estimated actual cost is $2300)\nCamping or double occupancy sliding scale for friends or couples sharing a room: $1900 – $1400 (estimated actual cost is $1650)\n\nThe estimated actual costs represent the amounts that we would have charged to cover the cost of accommodations\, food\, and basic administrative expenses if we had used a fixed rate instead of a sliding scale. \nSelecting an amount above the estimated actual cost will support the retreat and enable those who need to select a lower rate to attend the retreat. Selecting an amount below the estimated actual cost self-selects a supported scholarship rate. This sliding scale will allow most scholarship needs to be managed by self-selecting an amount lower than the estimated actual costs. Inquire with the registrar if you need additional scholarship support to attend. \nMONASTIC SCHOLARSHIPS: A few monastic scholarships are available for this retreat. These scholarships provide either partial or full scholarships for ordained practitioners who do not have personal funds to pay retreat fees. To apply for a monastic scholarship\, please fill out the usual registration form at the above link. Include a note to the registrar requesting a monastic scholarship. Indicate whether you need a full scholarship\, or if you are able to contribute a portion of the fees. Suggest the amount that would be comfortable for you to contribute. Monastics are responsible for their own transportation costs. The scholarship grant covers room and board for the duration of the retreat. Apply early—monastic scholarship requests must be received at least 2 months prior to the start of the retreat. \nPARTIAL RETREAT OPTIONS: Registration options for partial retreat attendance are below. Priority will be given to students who are registering for the full 9-nights course. Applicants for partial attendance will be placed on a wait list which will be reviewed approximately 2 months prior to the retreat and confirmed if space is available. To apply for partial attendance\, you must submit the registration application and deposit. \nPartial Attendance Rates: \n\n3 nights (Tuesday–Friday) – Camping or doubles attending together $720; Singles $990.\n4 nights (Tuesday–Saturday) – Camping or doubles attending together $940; Single $1300.\n5 nights (Tuesday–Sunday) – Camping or doubles attending together $1150; Single $1600.\n6 nights (Tuesday–Monday) – Camping or doubles attending together $1350; Single $1890.\n7-8 nights uses the sliding scale for the full retreat: Camping or doubles attending together $1900 – $1400; Single $2800 – $1900.\n\nWORK STUDY POSITIONS: Two or three people may register for a work-study retreat. These service roles have a registration fee of $800 and involve 3-4 hours of work per day (mostly kitchen work\, grocery shopping in advance of the retreat\, managing yogi jobs). Work-study arrival should be on Monday May 2 to help set up the retreat. Inquire with the registrar for more information about service roles. \nDANA: Compensation for the teacher is not included in the registration price. There will be an opportunity to offer donations to the teacher(s) at the end of the retreat. \nQUESTIONS?: Retreat registrar\, Jennifer Johnson at meditation3bodhicourses \nCo-sponsored by Bodhi Retreats and Insight Meditation South Bay
URL:https://www.imsb.org/event/concentration-jhana-and-breath-retreat-in-northern-california/
LOCATION:Saratoga Springs Retreat Center\, 10243 Saratoga Springs Road\, Upper Lake\, 95485\, United States
CATEGORIES:In-Person,Retreats with Shaila
ORGANIZER;CN="Bodhi Retreats Registrar - Jennifer":MAILTO:Click on link under Organizer.
GEO:39.1748059;-122.981503
X-APPLE-STRUCTURED-LOCATION;VALUE=URI;X-ADDRESS=Saratoga Springs Retreat Center 10243 Saratoga Springs Road Upper Lake 95485 United States;X-APPLE-RADIUS=500;X-TITLE=10243 Saratoga Springs Road:geo:-122.981503,39.1748059
END:VEVENT
BEGIN:VEVENT
DTSTART;VALUE=DATE:20220520
DTEND;VALUE=DATE:20220523
DTSTAMP:20260422T070212
CREATED:20210915T012432Z
LAST-MODIFIED:20211007T203059Z
UID:10009021-1653004800-1653263999@www.imsb.org
SUMMARY:ONLINE RETREAT: Mindfulness of Death
DESCRIPTION:Mindfulness of Death\nAn Online Weekend Retreat via Zoom\nWith Shaila Catherine\nAssisted by Peter Gilmore and Neil Stegall \nMay 20 ­– 22\, 2022 \nRegistration is required. Scroll down to choose a ticket level. Registration will close three days prior to the retreat\, so don’t wait to the last minute! \n“Mindfulness of death\, when developed and cultivated\, is of great fruit and benefit\, culminating in the deathless\, having the deathless as its consummation.”\n– Anguttara Nikaya 8.7 \nWestern societies are adept at hiding death. It occurs behind closed doors or in “sanitized” locations like hospitals and nursing homes. Most people rarely see corpses up close or witness the process of dying. It may seem that we have lost access to the spiritual insights that a closer connection with death could bring. \nDeveloping mindfulness of our own death can protect the mind from complacency\, and inspire us to practice dharma with greater energy and sincerity. Formal death contemplation can prepare us for the inevitable event of dying\, help us to let go of latent fears\, stimulate profound insights into impermanence\, clarify priorities\, and abandon sensory attachments. \nMany forms of maranasati (mindfulness of death) are taught in Buddhist traditions. Most simply\, we practice remaining aware and balanced as we reflect on the fact that we will surely die. These contemplations can remove fear of death and produce a sense of being at ease with the nature of things. \nThis online weekend at-home retreat will introduce a Buddhist approach to the contemplation of death and dying through a program of live video conferences with Shaila Catherine\, Peter Gilmore\, and Neil Stegall. The online meetings will include guided meditations\, Dharma talks\, question and answer sessions and discussions. \nRegistration is required. Scroll down to choose a ticket level. Registration will close about 3 days prior to the retreat\, so don’t wait to the last minute! \nZoom links will be emailed to registrants a few days prior to the retreat. \nRETREAT SCHEDULE \nTimes are given in Pacific Time (PDT) \nFriday\n5:30 – 7:00 pm        Opening Session\, Mindfulness of Death \nSaturday\n7:00 – 7:45am         Morning Meditation with Peter and Neil\n8:00 – 8:45am         Morning Guided Meditation with Shaila\n10:00– 12:00pm     Morning Teaching with Shaila\n1:30 – 3:30pm         Afternoon Teaching with Shaila\n4:15 – 5:30pm         Reflection and Discussion Group with Peter and Neil \nSunday\n7:00 – 7:45am         Morning Meditation with Peter and Neil\n8:00 – 8:45am         Morning Guided Meditation with Shaila\n10:00– 12:00pm     Morning Teaching with Shaila\n1:30 – 3:30pm         Afternoon Teaching with Shaila\n4:15 – 5:30pm         Reflection and Discussion Group with Peter and Neil \nVisit our Founding Teacher page for a biography and photograph of the teacher\, Shaila Catherine. \nQuestions? For more information contact meditate  \nCo-sponsored by Bodhi-Retreats and Insight Meditation South Bay \n\nRegistration: Registration is required for this course. Registration fees are non-refundable. To register\, select an option under the Tickets heading at the bottom of this page. \nCourse Fee: The non-refundable registration fee is based on a sliding scale of $625 to $225. The lower end of the sliding scale is intended for those with limited financial means. If you pay at the mid to high range of the sliding scale\, your generosity supports those with limited income to attend our programs\, and also supports the teacher. Our teacher relies upon the generosity of students for her livelihood\, so we encourage you to choose the highest level that is appropriate for your economic situation. Thank you for your generosity! The ticketing process will give you the option of paying by credit card\, Pay Pal\, or by mailing a check. \nTeacher Dana: Donations to support the teacher are much appreciated. Opportunities to give are shown on our Donate page. The Base Rate and Scholarship Rate do not include Teacher Dana. \nScholarship Assistance: A scholarship rate of 30% discount is offered for those with financial need. Full scholarships are offered to monastics. To request the coupon code to enable registration with the scholarship discount\, contact the registrar at meditate. \nTax Deductions: The basic registration fee and the scholarship rate do not include teacher dana and are not tax deductible. By selecting a ticket level above the base rate\, you will be contributing to teacher dana and the amount above the base rate will be considered a voluntary tax deductible Teacher Dana contribution. \nCancellation Policy: All fees and payments are non-refundable. If it becomes necessary to cancel participation in a course\, and the registrar is notified prior to the start of the first meeting\, your registration fee will be converted into a voucher creditable towards the fee for either a future IMSB or Bodhi-Retreats program. Vouchers must be used within one year of the initial course start date\, and may be transferred to only one future course. Cancellations that occur after the start of the first meeting are not eligible for the voucher credit and are non-refundable. \nMailing List\nPlease JOIN OUR MAILING LIST to receive notifications about future events.
URL:https://www.imsb.org/event/16932/
LOCATION:Online
CATEGORIES:Online Programs,Retreats with Shaila
ORGANIZER;CN="IMSB contact":MAILTO:Click on link under Organizer.
END:VEVENT
END:VCALENDAR