BEGIN:VCALENDAR
VERSION:2.0
PRODID:-//Insight Meditation South Bay - ECPv6.15.20//NONSGML v1.0//EN
CALSCALE:GREGORIAN
METHOD:PUBLISH
X-ORIGINAL-URL:https://www.imsb.org
X-WR-CALDESC:Events for Insight Meditation South Bay
REFRESH-INTERVAL;VALUE=DURATION:PT1H
X-Robots-Tag:noindex
X-PUBLISHED-TTL:PT1H
BEGIN:VTIMEZONE
TZID:America/Los_Angeles
BEGIN:DAYLIGHT
TZOFFSETFROM:-0800
TZOFFSETTO:-0700
TZNAME:PDT
DTSTART:20190310T100000
END:DAYLIGHT
BEGIN:STANDARD
TZOFFSETFROM:-0700
TZOFFSETTO:-0800
TZNAME:PST
DTSTART:20191103T090000
END:STANDARD
BEGIN:DAYLIGHT
TZOFFSETFROM:-0800
TZOFFSETTO:-0700
TZNAME:PDT
DTSTART:20200308T100000
END:DAYLIGHT
BEGIN:STANDARD
TZOFFSETFROM:-0700
TZOFFSETTO:-0800
TZNAME:PST
DTSTART:20201101T090000
END:STANDARD
BEGIN:DAYLIGHT
TZOFFSETFROM:-0800
TZOFFSETTO:-0700
TZNAME:PDT
DTSTART:20210314T100000
END:DAYLIGHT
BEGIN:STANDARD
TZOFFSETFROM:-0700
TZOFFSETTO:-0800
TZNAME:PST
DTSTART:20211107T090000
END:STANDARD
END:VTIMEZONE
BEGIN:VEVENT
DTSTART;VALUE=DATE:20200831
DTEND;VALUE=DATE:20200911
DTSTAMP:20260425T055844
CREATED:20191117T035731Z
LAST-MODIFIED:20200714T033709Z
UID:10009177-1598832000-1599782399@www.imsb.org
SUMMARY:Concentration\, Jhana\, and Breath: 10-night Retreat in Georgia
DESCRIPTION:This retreat is open for registration. We currently have 17 participants registered\, and can accept up to 4 more participants. This will be a very special retreat—a rare opportunity to practice with seclusion and intimacy. Please review the preventative measures taken by the center\, and read our new guidelines: Guidelines for Retreat Practice in the Covid-19 Era \nTeachings on Sixteen Steps of Anapanasati Samadhi\nled by Shaila Catherine\nMonday\, August 31\, 2020 – Thursday\, September 10\, 2020. \nThe retreat begins with registration from 2:00 – 3:30 pm on Monday\, August 31. The retreat ends after lunch at 1:00 pm on Thursday\, September 10. \nPartial attendance is possible in some cases\, but it must begin on the first day of the retreat and priority will be given to those registering for the full retreat. A limited number of commuter spaces may be available. \nThis retreat will utilize the breath as the primary meditation object and will encourage the development of meditative skills that lead to deep concentration (samadhi) and insight (vipassana). Daily group instructions will focus on the sixteen steps in the Anapanasati Sutta as a route to jhana and/or liberating insight. Meetings with the teacher in small groups and one-on-one dialogs will tailor the practices to meet the needs and interests of individual students. Some students may choose to emphasize concentration practice throughout the retreat; others may emphasize vipassana; and some may practice both concentration and insight inconjunction with mindfulness of breathing. \nThis retreat offers a special opportunity to train in concentration and jhana practices with personal guidance from Shaila Catherine. It is one of the very few retreats each year in which Shaila systematically guides students to establish jhana by working step by step with the Anapanasati Sutta. Students who wish to embark on this training in concentration and jhana should read her book Focused and Fearless prior to the retreat. See our Concentration and Jhana FAQ page for more information about developing concentration and the absorption states of jhana. \nThis silent retreat is structured with alternating periods of sitting and walking meditation\, dhamma teachings\, and teacher consultations. \nPrior to the retreat\, please read Focused and Fearless by Shaila Catherine\, and the Anapanasati Sutta. You may download the sutta at: https://suttacentral.net/mn118/en/bodhi \nRegister early! Space is limited. We keep this retreat small (previously under 40 participants) to enable in-depth guidance from Shaila. Update 5/29/20: As a precaution to limit the spread of the coronavirus\, the retreat will be significantly smaller than the 40 that we originally planned. Currently attendance is restricted to 22 guests\, although this number might change slightly by Aug 31. See the Guidelines for Retreat Practice in the Covid-19 Era document for more information.  \nABOUT THE SITE: Situated in a quiet rural area just outside of Atlanta\, the Ingnatius House\, a Jesuit retreat center offers convenience and comfort to support deep meditative experience. \nTO REGISTER: Download and complete the IH2020 registration and waiver forms\, enclose a non-refundable deposit of $250 (payable to Bodhi Retreats)\, and return via email and/or postal mail to the address below. We are not currently accepting credit card transactions\, so please send your registration deposit and fees via check or money order made payable to Bodhi Retreats. If this is not possible for some of our international guests\, please contact the registrar for alternative payment arrangements. \nKatrina Bergbauer\n225 Second Ave\nDecatur\, GA 30030 \nretreats \nPlease complete either the Standard-Printable or Form-Fillable form\, and also the Waiver of Liability.\nImportant: If you use the form-fillable version\, download the form to your computer first. Then fill out the form. After completing the form\, select to print it\, and in the print options select to save the form as a PDF file. Then mail or email the PDF to the registrar. \n\nIH2020_Registration_Fillable-Form\nIH2020_Registration_Standard_Printable-Form\nIH2020_Waiver-of-Liability\n\nREQUIREMENTS: The 10-night retreat is designed for experienced students. Previous retreat experience in the insight meditation tradition is required\, with a minimum of at least two week-long silent residential retreats. If you have less than two week-long silent retreat experience\, your attendance requires approval from the teacher. \nACCOMMODATIONS AND MEALS: Ignatius House has been described as a hidden jewel in the Atlanta area. It is situated on 20 acres of lush secluded woodland overlooking the Chattahoochee River. The site boasts 1.5 miles of trail winding up and down through tall pines\, along the river\, over quaint bridges\, and has many places to sit and soak in the serenity of this environment as it nourishes the heart. Seclusion and quietude permeate the environment\, while it is conveniently accessible from the Hartsfield-Jackson Atlanta International airport. \nAll accommodations are in comfortable modest single rooms; each room has a private ensuite bathroom. Three meals a day will be prepared by the center’s acclaimed chef and professional culinary team. The meals will include omnivore and vegetarian options\, plentiful salads\, and daily desserts. Snacks\, coffee\, and tea will be available throughout the day. With advanced notice\, the culinary team will be happy to work with allergies and special food needs. \nThe retreat facility is handicapped accessible. If you have mobility limitations\, please contact the registrar for details. \nPlease note that this will be a non-smoking retreat. \nCOST: 10 nights (includes accommodation and meals) is $2800 – $1750 sliding scale\, plus a donation to the teachers at the end of retreat. The estimated actual per-person cost for this retreat (if we used a fixed rate) is $2300. By selecting an amount above $2300\, your generosity supports those who need to select a lower rate to attend the retreat. This sliding scale will allow most scholarship needs to be managed by self-selecting an amount lower than $2300. \nCOMMUTER OPTIONS: \n\nCommuter option (no sleeping accommodations) for full retreat including lunch and dinner is $2300 ­– $1300 sliding scale.\nCommuter option (no sleeping accommodations) for full retreat including breakfast\, lunch and dinner is $2300 ­– $1500 sliding scale.\n\nPARTIAL RETREAT OPTIONS: Registration options for partial retreat attendance are below. Priority will be given to students who are registering for the full 10-nights course. We do not encourage partial attendance\, but offer these options for cases when full attendance is not possible\, and only if we have space available. Applicants for partial attendance will be placed on a wait list which will be reviewed approximately 2 months prior to the retreat. \n\n2 nights (Monday–Wednesday) is $700 – $500 sliding scale\n3 nights (Monday–Thursday) is $1050 – $750 sliding scale\n4 nights (Monday–Friday) is $1\,400 – $950 sliding scale\n5 nights (Monday–Saturday) is $1\,700 – $1200 sliding scale\n6 nights (Monday–Sunday) is $2\,000 – $1450 sliding scale\n7 nights (Monday–Monday is the same rate as full retreat $2800 – $1750 sliding scale\n\nDANA: Compensation for the teacher is not included in the registration price. There will be an opportunity to offer donations to the teachers at the end of the retreat. \nCo-sponsored by Bodhi Retreats and Insight Meditation South Bay
URL:https://www.imsb.org/event/concentration-jhana-and-breath-10-night-retreat-in-georgia/
LOCATION:Ignatius House\, 6700 Riverside Drive NW\, Atlanta\, GA\, 30328\, United States
CATEGORIES:Retreats with Shaila
ORGANIZER;CN="Bodhi Retreats Registrar-1":MAILTO:Click on link under Organizer.
END:VEVENT
BEGIN:VEVENT
DTSTART;TZID=America/Los_Angeles:20200908T183000
DTEND;TZID=America/Los_Angeles:20200908T200000
DTSTAMP:20260425T055844
CREATED:20200725T215443Z
LAST-MODIFIED:20200817T074046Z
UID:10009222-1599589800-1599595200@www.imsb.org
SUMMARY:Tuesday Online: Jennifer Dungan—Equanimity in the Face of Global Climate Change
DESCRIPTION:Tuesday Online: Jennifer Dungan—Equanimity in the Face of Global Climate Change\nwith Jennifer Dungan \nSeptember 8\, 2020 \nEquanimity (or upekkhā) is the fourth brahmavihārā and the tenth pāramī. What does equanimity look like when contemplating the rapid climate change we are experiencing in our lifetimes and for our descendents’ lifetimes?   \nPlease join us on Zoom. This event is appropriate for newcomers as well as experienced practitioners. The evening includes silent or guided meditation and teachings. \n  \nTakes place on Zoom! \nJoin the Zoom Meeting\nhttps://us02web.zoom.us/j/88266320362?pwd=QWZpb2svQk9xZCtvWTZraXF5WTFKZz09 \nMeeting ID: 882 6632 0362\nPassword: metta4all \nOne tap mobile\n+16699006833\,\,88266320362# US (San Jose)\n+12532158782\,\,88266320362# US (Tacoma) \nDial by your location\n+1 669 900 6833 US (San Jose)\n+1 253 215 8782 US (Tacoma)\n+1 346 248 7799 US (Houston)\n+1 929 205 6099 US (New York)\n+1 301 715 8592 US (Germantown)\n+1 312 626 6799 US (Chicago)\nMeeting ID: 882 6632 0362\nFind your local number: https://us02web.zoom.us/u/kcSiCSJ1bl \n  \n\n  \nTEACHERS: Please visit our Teachers Page for biographies and photos of our speakers. \nTUESDAYS ONLINE: Due to coronavirus concerns\, we have converted our Tuesday evening meeting to an online format with teachings offered by Shaila Catherine and an array of guest teachers. This online group meets 6:30 – 8:00 PM Pacific Time\, which makes it possible for local members to join us after their workday\, and for East Coast friends to sit with us before bed. \nEveryone is welcome. Please share this event with your friends. \nDANA/DONATIONS: IMSB relies upon the generosity of participants to support our teachers and cover organizational expenses that continue whether we are meeting in-person or online. Dana is a word in the ancient Pali language that describes donations\, offerings and generosity. We encourage you to give joyfully and generously\, according to your resources and means. IMSB is a 501(c) (3) organization. All donations are tax deductible as permitted by law. \nPlease support our programs and teachers with your donations. We especially encourage recurring monthly donations to help us through these difficult months of the pandemic. Donations can be made through our Donation Page. Recurring donations can be made through Network for Good or PayPal. \nFUTURE IN-PERSON GATHERINGS: When it is wise to do so\, Insight Meditation South Bay anticipates continuing our program of two weekly meditation programs. On Tuesdays\, we meet in Mountain View for our drop-in weekly program of meditation and teachings. Our Tuesday evening program usually includes a sitting meditation and Dhamma talk. The principal teacher is Shaila Catherine and guest speakers are featured regularly. Thematic series are periodically presented\, but whether or not a topic has been advertised in advance\, Shaila or a guest teacher will lead the sitting and offer teachings. On Thursdays\, we meet in Saratoga for our Dhamma Classroom\, for a series of structured courses with registration\, and periodic drop-in practice events.
URL:https://www.imsb.org/event/tuesday-online-20200908/
LOCATION:Online
CATEGORIES:Guests and Series,Online Programs,Weekly Meditation
ORGANIZER;CN="IMSB contact":MAILTO:Click on link under Organizer.
END:VEVENT
BEGIN:VEVENT
DTSTART;TZID=America/Los_Angeles:20200910T191500
DTEND;TZID=America/Los_Angeles:20200910T210000
DTSTAMP:20260425T055844
CREATED:20190725T155525Z
LAST-MODIFIED:20230831T220634Z
UID:10009105-1599765300-1599771600@www.imsb.org
SUMMARY:Course: From Intelligence to Intuition with Kim Allen
DESCRIPTION:If you are interested in registering for this class\, please contact the registrar (ThursdayClass) to express your interest. It has not yet been determined if this class will be offered online\, cancelled\, or meet as an in-person course in the church garden due to Covid-19 precautions.  \nA six-week course led by Kim Allen and Shaila Catherine\nCultivation of Dhamma wisdom that benefits all beings. \nThursdays\, September 10 – October 15\nPlus bonus drop-in session October 22\n7:15-9:00pm\nSilence begins at 7:00. Arrive early (around 7:00) to enjoy the optional pre-class meditation period. \nModern life in the West encourages reliance on our “analytical” mind – that which does planning\, deciding\, evaluating\, analyzing\, and debating. This aspect of mind\, when untrained\, is prone to agitation\, aversion\, anxiety\, and other undesirable qualities. It can also be used in healthy ways\, such as discerning what is wholesome\, and learning and contemplating teachings. \nThrough various meditation practices and the additional nourishment of heart qualities\, the mind learns to reduce its reliance on “reason” as a more intuitive capacity strengthens. Eventually\, our mind can manifest the intuitive wisdom\, clarity\, and responsiveness that are truly beneficial for ourselves and the world. \nThis 6-week course explores practices that can help to mature the analytical mind. Each week\, we will focus on one practice. Together\, they form a mandala of skillful means. We will also learn how these practices fit into a path to liberation in Buddhist teachings. \nClasses will include meditation\, sutta study\, teachings\, and Q&A. \n\nSept 10: Arriving in the Present Moment\, with Kim Allen\nSept 17: Working with Discursive Thinking\, with Shaila Catherine\nSept 24: Skillful Use of Reflection\, with Shaila Catherine\nOct 1: Nourishment for the Path: Opening the Heart\, with Kim Allen\nOct 8: Clear Comprehension and Dhamma Investigation\, with Kim Allen\nOct 15: Intuitive Wisdom\, with Kim Allen\nOct 22: Bonus Drop-In Session – Sitting\, Walking\, and Reflection\, with Kim Allen\n\nWHO SHOULD JOIN: This course intended for people who already have a basic introduction to mindfulness. \nCOURSE LEVELS: It is designed as a level 1-3 course. Click this link for a key to course level designations. \n\nVisit our Teacher Page for teacher biographies and photographs. \nREGISTRATION: Registration is required for this course. Registration fees are non-refundable. To register\, select an option under the Tickets heading at the bottom of this page. (If you are viewing this page more than two months in advance of the course\, the Tickets heading might not yet appear\, so please check again later.) To register for a course\, you purchase one ticket\, which registers you for the entire class series. You only need to register once; you do not need to register separately for each class session. \nCourse Fee: The sliding scale fee range is from $360 to $120 and will be shared between IMSB and the teacher(s). The lower end of the sliding scale is intended for those with limited financial means. The low rate of $120 is estimated to cover the most basic costs such as rent and insurance for the specific class period. This base rate does not factor in compensation for teachers or ongoing administrative expenses for IMSB. If you pay at the mid to high range of the sliding scale\, your generosity supports those with limited income in attending our programs and also supports IMSB and the teachers\, enabling the dhamma to thrive in the South Bay area. We encourage you to choose the highest level that is appropriate for your economic situation. \nScholarship Assistance: A scholarship rate of $50 is offered for those with very limited financial means. If you need additional assistance\, or if you would like to volunteer to help out\, please inquire with the registrar by contacting ThursdayClass. \nTax Deductions: The basic registration fee is not tax deductible. Donations above the base rate will be considered voluntary contributions and are deductible for any amount that is over the base rate. Each January\, the IMSB treasurer sends donors letters that acknowledge the amount given for the previous year that is above the basic rate; this serves as documentation for tax deduction purposes. \nCancellation Policy: All fees and payments are non-refundable. If it becomes necessary to cancel participation in a course\, and the registrar is notified prior to the start of the first class meeting\, your registration fee will be converted into a voucher creditable towards the fee for a future IMSB Thursday class. Vouchers must be used within one year of the initial course start date\, and may be transferred to only one future course. Cancellations that occur after the start of the first class are not eligible for the voucher credit.
URL:https://www.imsb.org/event/analytical-mind/2020-09-10/
LOCATION:Westhope Presbyterian Church\, 12850 Saratoga Ave\, Saratoga\, CA\, 95070\, United States
CATEGORIES:Thursday Class
ORGANIZER;CN="IMSB contact":MAILTO:Click on link under Organizer.
GEO:37.2819775;-122.0012909
X-APPLE-STRUCTURED-LOCATION;VALUE=URI;X-ADDRESS=Westhope Presbyterian Church 12850 Saratoga Ave Saratoga CA 95070 United States;X-APPLE-RADIUS=500;X-TITLE=12850 Saratoga Ave:geo:-122.0012909,37.2819775
END:VEVENT
END:VCALENDAR