BEGIN:VCALENDAR
VERSION:2.0
PRODID:-//Insight Meditation South Bay - ECPv6.15.20//NONSGML v1.0//EN
CALSCALE:GREGORIAN
METHOD:PUBLISH
X-WR-CALNAME:Insight Meditation South Bay
X-ORIGINAL-URL:https://www.imsb.org
X-WR-CALDESC:Events for Insight Meditation South Bay
REFRESH-INTERVAL;VALUE=DURATION:PT1H
X-Robots-Tag:noindex
X-PUBLISHED-TTL:PT1H
BEGIN:VTIMEZONE
TZID:America/Los_Angeles
BEGIN:DAYLIGHT
TZOFFSETFROM:-0800
TZOFFSETTO:-0700
TZNAME:PDT
DTSTART:20190310T100000
END:DAYLIGHT
BEGIN:STANDARD
TZOFFSETFROM:-0700
TZOFFSETTO:-0800
TZNAME:PST
DTSTART:20191103T090000
END:STANDARD
BEGIN:DAYLIGHT
TZOFFSETFROM:-0800
TZOFFSETTO:-0700
TZNAME:PDT
DTSTART:20200308T100000
END:DAYLIGHT
BEGIN:STANDARD
TZOFFSETFROM:-0700
TZOFFSETTO:-0800
TZNAME:PST
DTSTART:20201101T090000
END:STANDARD
BEGIN:DAYLIGHT
TZOFFSETFROM:-0800
TZOFFSETTO:-0700
TZNAME:PDT
DTSTART:20210314T100000
END:DAYLIGHT
BEGIN:STANDARD
TZOFFSETFROM:-0700
TZOFFSETTO:-0800
TZNAME:PST
DTSTART:20211107T090000
END:STANDARD
END:VTIMEZONE
BEGIN:VEVENT
DTSTART;TZID=America/Los_Angeles:20201214T163000
DTEND;TZID=America/Los_Angeles:20201214T180000
DTSTAMP:20260420T143650
CREATED:20201028T052039Z
LAST-MODIFIED:20210115T035440Z
UID:10009239-1607963400-1607968800@www.imsb.org
SUMMARY:Emptiness in Buddhist Practice—Online
DESCRIPTION:Emptiness in Buddhist Practice—Online\nAn 8-week course led by Shaila Catherine \nMondays Online via Zoom\nDecember 7\, 14\, 21\, January 4\, 11\, February 1\, 8\, 15\n4:30 – 6:00 PM Pacific Time \nTeachings on emptiness point directly to the liberating potential of the Buddhist path. Although this topic may sometimes seem obscure in the context of modern lay life\, it is worthy of deep reflection and study. The Buddha urged his disciples to apply their minds to understand the teachings on emptiness. The experience of emptiness is so central to his message in fact\, that on one occasion he warned that the dhamma will disappear from this world if people do not lend an ear to the teachings that “are deep\, deep in meaning\, supramundane\, dealing with emptiness.” \nThis course is structured as a discussion of the book authored by Guy Armstrong titled “Emptiness: A Practical Guide for Meditators.” Shaila Catherine will lead guided meditations and discussions to facilitate a profound contemplation of emptiness. Together we will explore a variety of meditation practices that illuminate the insubstantial void nature of experience and incline the mind toward a direct realization of emptiness. \n\nDecember 7 — The World is Empty of Self — Chapters 1 & 2\nDecember 14 — What is Real? — Chapters 3 & 4\nDecember 21 — How We Create A Sense of Self — Chapter 5\nJanuary 4 — Beyond Self — Chapters 6\, 7 & 8\nJanuary 11 — Karma: Who Acts? — Chapters 9 & 10\nFebruary 1 ­— The End of Karma\, Abiding in Emptiness\, Cessation\, Nibbana — Chapters 11\, 12 & 13\nFebruary 8 — All Phenomena are Empty — Chapters 14\, 15 & 16\nFebruary 15 — The Empty Nature of Awareness. Compassion — Chapters 17 – 21\n\nREQUIRED BOOK: Emptiness: A Practical Guide for Meditators\, by Guy Armstrong\, published by Wisdom Publications. Paperback: ISBN 9781614295266. E-book: ISBN 9781614293798 \nWHO SHOULD JOIN: This course is open to all practitioners\, however\, it is designed for those who have already had an introduction to mindfulness meditation practices. \nCOURSE LEVELS: It is designed as a level 2 course. Click this link for a key to course level designations. \nPRECAUTIONS FOR IN-PERSON MEETINGS: The in-person meetings will be limited to a maximum of 20 participants. We will meet in a large sanctuary that under normal circumstances would seat 250. Your temperature will be taken before entering\, face masks that cover the nose and mouth are required\, and social distancing will be practiced. Please bring a sweater\, shawl\, or lap blanket to keep warm since we will increase ventilation by cracking open the doors. \nABOUT ONLINE MEETINGS: A Zoom link will be provided after registration. \nTO REGISTER: Go to NEW COURSE: Emptiness in Buddhist Practice for how to register.
URL:https://www.imsb.org/event/emptiness-in-buddhist-practice-online/2020-12-14/
LOCATION:Online
CATEGORIES:Guests and Series
ORGANIZER;CN="Sit at IMSB - Contact":MAILTO:Click on link under organizer
END:VEVENT
BEGIN:VEVENT
DTSTART;TZID=America/Los_Angeles:20201215T183000
DTEND;TZID=America/Los_Angeles:20201215T200000
DTSTAMP:20260420T143650
CREATED:20201010T033545Z
LAST-MODIFIED:20201106T193238Z
UID:10009236-1608057000-1608062400@www.imsb.org
SUMMARY:Tuesday Online—Rodger Kamenetz—The Medicine in Dreams: Healing "Afflictive States of Mind"
DESCRIPTION:Tuesday Online—Rodger Kamenetz—The Medicine in Dreams: Healing “Afflictive States of Mind”\nwith Rodger Kamenetz \nDecember 15\, 2020 \nThis talk will address afflictive states of mind and how they present themselves in images in our dreams. In Natural Dreamwork we do not interpret dreams\, we bring them to life. Instead of approaching dreams as riddles to be solved we treat the dream as an opportunity for deep feeling and sacred encounter. This helps us distinguish genuine feelings from reactive states. We will practice a contemplation of images. You are invited to bring recent dreams of your own to the discussion. \nDue to the coronavirus concerns\, we are holding our Tuesday meetings online.  \nPlease join us on Zoom. This event is appropriate for newcomers as well as experienced practitioners. The evening includes silent or guided meditation and teachings. \nTakes place on Zoom! \nJoin the Zoom Meeting\nWe now require you enter the Zoom passcode to join the meeting. \nhttps://us02web.zoom.us/j/88266320362 \nMeeting ID: 882 6632 0362\nPasscode: metta4all \nOne tap mobile\n+16699006833\,\,88266320362# US (San Jose)\n+12532158782\,\,88266320362# US (Tacoma) \nDial by your location\n+1 669 900 6833 US (San Jose)\n+1 253 215 8782 US (Tacoma)\n+1 346 248 7799 US (Houston)\n+1 929 205 6099 US (New York)\n+1 301 715 8592 US (Germantown)\n+1 312 626 6799 US (Chicago)\nMeeting ID: 882 6632 0362\nFind your local number: https://us02web.zoom.us/u/kcSiCSJ1bl \n\nTEACHERS: Please visit our Teachers Page for biographies and photos of our speakers. \nTUESDAYS ONLINE: Due to coronavirus concerns\, we have converted our Tuesday evening meeting to an online format with teachings offered by Shaila Catherine and an array of guest teachers. This online group meets 6:30 – 8:00 PM Pacific Time\, which makes it possible for local members to join us after their workday\, and for East Coast friends to sit with us before bed. \nEveryone is welcome. Please share this event with your friends. \nDANA/DONATIONS: IMSB relies upon the generosity of participants to support our teachers and cover organizational expenses that continue whether we are meeting in-person or online. Dana is a word in the ancient Pali language that describes donations\, offerings and generosity. We encourage you to give joyfully and generously\, according to your resources and means. IMSB is a 501(c) (3) organization. All donations are tax deductible as permitted by law. \nPlease support our programs and teachers with your donations. We especially encourage recurring monthly donations to help us through these difficult months of the pandemic. Donations can be made through our Donation Page. Recurring donations can be made through Network for Good or PayPal. \nFUTURE IN-PERSON GATHERINGS: When it is wise to do so\, Insight Meditation South Bay anticipates continuing our program of two weekly meditation programs. On Tuesdays\, we meet in Mountain View for our drop-in weekly program of meditation and teachings. Our Tuesday evening program usually includes a sitting meditation and Dhamma talk. The principal teacher is Shaila Catherine and guest speakers are featured regularly. Thematic series are periodically presented\, but whether or not a topic has been advertised in advance\, Shaila or a guest teacher will lead the sitting and offer teachings. On Thursdays\, we meet in Saratoga for our Dhamma Classroom\, for a series of structured courses with registration\, and periodic drop-in practice events.
URL:https://www.imsb.org/event/tuesday-online-roger-kamenetz-20201215/
LOCATION:Online
CATEGORIES:Featured Events,Guests and Series,Online Programs,Weekly Meditation
ORGANIZER;CN="IMSB contact":MAILTO:Click on link under Organizer.
END:VEVENT
BEGIN:VEVENT
DTSTART;TZID=America/Los_Angeles:20201217T191500
DTEND;TZID=America/Los_Angeles:20201217T210000
DTSTAMP:20260420T143650
CREATED:20190725T201132Z
LAST-MODIFIED:20230831T220557Z
UID:10009125-1608232500-1608238800@www.imsb.org
SUMMARY:Course: Effort and Ease
DESCRIPTION:Balancing Effort and Ease in Meditation and in Life\nA 6-week course led by Shaila Catherine and _______________ \nDeveloping the energies that transform and awaken the mind! \nThursdays\, November 5 – December 17\, 2020\n7:15 pm to 9:00 pm\nSilence begins at 7:00. Arrive early (around 7:00) to enjoy the optional pre-class meditation period. \nRight effort – balancing energy and ease – supports the development of mindfulness\, concentration\, and insight. By learning to use our energies effectively\, we overcome obstacles\, transform mental habits\, open to a fresh and free way of engaging with experience\, and cultivate beautiful qualities that incline the mind toward profound peace. \nThis course will explore effort with an emphasis on the four modes of “right striving” described in the Sammappadhāna Samyutta\, The Connected Discourses on Right Striving (SN 49.1). This brief teaching presents a flexible four-part approach to refining and balancing energy that is relevant to formal meditation practice\, and can help us to skillfully meet the demands of daily life. \n\nNovember 5: Introducing Mindfulness and Effort: A Balanced Approach\nNovember 12: Effort to Protect\nNovember 19: Effort to Free\nNovember 26: No class tonight. Enjoy the Thanksgiving Holiday!\nDecember 3: Effort to Cultivate\nDecember 11: Effort to Maintain\nDecember 17: Reflections on Skillful Effort\, Confidence\, and Relaxation\n\nWHO SHOULD JOIN: This course is open to all practitioners. \nCOURSE LEVELS: It is designed as a level 1 course. Click this link for a key to course level designations. \n\nVisit our Teacher Page for teacher biographies and photographs. \nREGISTRATION: Registration is required for this course. Registration fees are non-refundable. To register\, select an option under the Tickets heading at the bottom of this page. (If you are viewing this page more than two months in advance of the course\, the Tickets heading might not yet appear\, so please check again later.) To register for a course\, you purchase one ticket\, which registers you for the entire class series. You only need to register once; you do not need to register separately for each class session. \nCourse Fee: The sliding scale fee range is from $360 to $120 and will be shared between IMSB and the teacher(s). The lower end of the sliding scale is intended for those with limited financial means. The low rate of $120 is estimated to cover the most basic costs such as rent and insurance for the specific class period. This base rate does not factor in compensation for teachers or ongoing administrative expenses for IMSB. If you pay at the mid to high range of the sliding scale\, your generosity supports those with limited income in attending our programs and also supports IMSB and the teachers\, enabling the dhamma to thrive in the South Bay area. We encourage you to choose the highest level that is appropriate for your economic situation. \nScholarship Assistance: A scholarship rate of $50 is offered for those with very limited financial means. If you need additional assistance\, or if you would like to volunteer to help out\, please inquire with the registrar by contacting ThursdayClass. \nTax Deductions: The basic registration fee is not tax deductible. Donations above the base rate will be considered voluntary contributions and are deductible for any amount that is over the base rate. Each January\, the IMSB treasurer sends donors letters that acknowledge the amount given for the previous year that is above the basic rate; this serves as documentation for tax deduction purposes. \nCancellation Policy: All fees and payments are non-refundable. If it becomes necessary to cancel participation in a course\, and the registrar is notified prior to the start of the first class meeting\, your registration fee will be converted into a voucher creditable towards the fee for a future IMSB Thursday class. Vouchers must be used within one year of the initial course start date\, and may be transferred to only one future course. Cancellations that occur after the start of the first class are not eligible for the voucher credit.
URL:https://www.imsb.org/event/effort-ease/2020-12-17/
LOCATION:Westhope Presbyterian Church\, 12850 Saratoga Ave\, Saratoga\, CA\, 95070\, United States
CATEGORIES:Beginners,Thursday Class
ORGANIZER;CN="IMSB contact":MAILTO:Click on link under Organizer.
GEO:37.2819775;-122.0012909
X-APPLE-STRUCTURED-LOCATION;VALUE=URI;X-ADDRESS=Westhope Presbyterian Church 12850 Saratoga Ave Saratoga CA 95070 United States;X-APPLE-RADIUS=500;X-TITLE=12850 Saratoga Ave:geo:-122.0012909,37.2819775
END:VEVENT
END:VCALENDAR