BEGIN:VCALENDAR
VERSION:2.0
PRODID:-//Insight Meditation South Bay - ECPv6.15.20//NONSGML v1.0//EN
CALSCALE:GREGORIAN
METHOD:PUBLISH
X-ORIGINAL-URL:https://www.imsb.org
X-WR-CALDESC:Events for Insight Meditation South Bay
REFRESH-INTERVAL;VALUE=DURATION:PT1H
X-Robots-Tag:noindex
X-PUBLISHED-TTL:PT1H
BEGIN:VTIMEZONE
TZID:America/Los_Angeles
BEGIN:DAYLIGHT
TZOFFSETFROM:-0800
TZOFFSETTO:-0700
TZNAME:PDT
DTSTART:20190310T100000
END:DAYLIGHT
BEGIN:STANDARD
TZOFFSETFROM:-0700
TZOFFSETTO:-0800
TZNAME:PST
DTSTART:20191103T090000
END:STANDARD
BEGIN:DAYLIGHT
TZOFFSETFROM:-0800
TZOFFSETTO:-0700
TZNAME:PDT
DTSTART:20200308T100000
END:DAYLIGHT
BEGIN:STANDARD
TZOFFSETFROM:-0700
TZOFFSETTO:-0800
TZNAME:PST
DTSTART:20201101T090000
END:STANDARD
BEGIN:DAYLIGHT
TZOFFSETFROM:-0800
TZOFFSETTO:-0700
TZNAME:PDT
DTSTART:20210314T100000
END:DAYLIGHT
BEGIN:STANDARD
TZOFFSETFROM:-0700
TZOFFSETTO:-0800
TZNAME:PST
DTSTART:20211107T090000
END:STANDARD
BEGIN:DAYLIGHT
TZOFFSETFROM:-0800
TZOFFSETTO:-0700
TZNAME:PDT
DTSTART:20220313T100000
END:DAYLIGHT
BEGIN:STANDARD
TZOFFSETFROM:-0700
TZOFFSETTO:-0800
TZNAME:PST
DTSTART:20221106T090000
END:STANDARD
END:VTIMEZONE
BEGIN:VEVENT
DTSTART;TZID=America/Los_Angeles:20201229T183000
DTEND;TZID=America/Los_Angeles:20201229T200000
DTSTAMP:20260420T144043
CREATED:20201010T004916Z
LAST-MODIFIED:20201010T004916Z
UID:10009234-1609266600-1609272000@www.imsb.org
SUMMARY:Tuesday Online—CANCELLED for tonight—enjoy the holidays!
DESCRIPTION:Tuesday Online—CANCELLED for tonight—enjoy the holidays!\nDecember 29\, 2020 \nTonight’s meditation group meeting is cancelled due to the holidays. \nOur regular program will resume next week. \nDue to coronavirus concerns\, we are holding our Tuesday meetings online. \n\n  \nTEACHERS: Please visit our Teachers Page for biographies and photos of our speakers. \nTUESDAYS ONLINE: Due to coronavirus concerns\, we have converted our Tuesday evening meeting to an online format with teachings offered by Shaila Catherine and an array of guest teachers. This online group meets 6:30 – 8:00 PM Pacific Time\, which makes it possible for local members to join us after their workday\, and for East Coast friends to sit with us before bed. \nEveryone is welcome. Please share this event with your friends. \nDANA/DONATIONS: IMSB relies upon the generosity of participants to support our teachers and cover organizational expenses that continue whether we are meeting in-person or online. Dana is a word in the ancient Pali language that describes donations\, offerings and generosity. We encourage you to give joyfully and generously\, according to your resources and means. IMSB is a 501(c) (3) organization. All donations are tax deductible as permitted by law. \nPlease support our programs and teachers with your donations. We especially encourage recurring monthly donations to help us through these difficult months of the pandemic. Donations can be made through our Donation Page. Recurring donations can be made through Network for Good or PayPal. \nFUTURE IN-PERSON GATHERINGS: When it is wise to do so\, Insight Meditation South Bay anticipates continuing our program of two weekly meditation programs. On Tuesdays\, we meet in Mountain View for our drop-in weekly program of meditation and teachings. Our Tuesday evening program usually includes a sitting meditation and Dhamma talk. The principal teacher is Shaila Catherine and guest speakers are featured regularly. Thematic series are periodically presented\, but whether or not a topic has been advertised in advance\, Shaila or a guest teacher will lead the sitting and offer teachings. On Thursdays\, we meet in Saratoga for our Dhamma Classroom\, for a series of structured courses with registration\, and periodic drop-in practice events.
URL:https://www.imsb.org/event/tuesday-online-20201229/
LOCATION:Online
CATEGORIES:Featured Events,Online Programs,Weekly Meditation
ORGANIZER;CN="IMSB contact":MAILTO:Click on link under Organizer.
END:VEVENT
BEGIN:VEVENT
DTSTART;TZID=America/Los_Angeles:20201231T191500
DTEND;TZID=America/Los_Angeles:20201231T210000
DTSTAMP:20260420T144043
CREATED:20170816T025235Z
LAST-MODIFIED:20190725T171759Z
UID:10008819-1609442100-1609448400@www.imsb.org
SUMMARY:Weekly meditation course is CANCELLED for tonight - enjoy the holidays!
DESCRIPTION:Tonight’s meditation course is cancelled.\nOur regular weekly meditation program will resume next week\, after the holidays. \n\n 
URL:https://www.imsb.org/event/weekly-meditation-is-cancelled-for-tonight-2019-07-04/2020-12-31/
LOCATION:Westhope Presbyterian Church\, 12850 Saratoga Ave\, Saratoga\, CA\, 95070\, United States
CATEGORIES:Thursday Class,Weekly Meditation
ORGANIZER;CN="IMSB contact":MAILTO:Click on link under Organizer.
GEO:37.2819775;-122.0012909
X-APPLE-STRUCTURED-LOCATION;VALUE=URI;X-ADDRESS=Westhope Presbyterian Church 12850 Saratoga Ave Saratoga CA 95070 United States;X-APPLE-RADIUS=500;X-TITLE=12850 Saratoga Ave:geo:-122.0012909,37.2819775
END:VEVENT
BEGIN:VEVENT
DTSTART;TZID=America/Los_Angeles:20210101T090000
DTEND;TZID=America/Los_Angeles:20210101T170000
DTSTAMP:20260420T144043
CREATED:20200929T190027Z
LAST-MODIFIED:20210101T005924Z
UID:10009228-1609491600-1609520400@www.imsb.org
SUMMARY:New Year's Online Event with Shaila Catherine – Peace and Clarity
DESCRIPTION:Registration has closed for this event. \nStart the New Year with Clarity of Mind and a Peaceful Heart\nan at-home day of meditation with Shaila Catherine \nFriday\, January 1\, 2021\n9:00 AM – 5:00 PM Pacific Time \nJoin IMSB as we start the new year with the peace and clarity that meditation can bring to our lives.  The day will include teachings and guided mindfulness meditations offered through four Zoom sessions with Shaila Catherine. \nPlease choose one of the ticket options below to register. A Zoom link will be emailed to registrants a few days prior to the event. \nSCHEDULE \n\n9:00 – 10:00 Zoom Session 1 – Teachings and Guided Meditation\n10:00 – 10:45 Individual Walking Meditation\n10:45 – 12:00 Zoom Session  2 – Guided Meditation. Questions & Answers about Meditation Practice\n12:00 – 2:00 Lunch Break and Individual Practice\n2:00 – 3:00 Zoom Session 3 – Guided Meditation\n3:00 – 3:45 Individual Walking Meditation\n3:45 – 5:00 Zoom Session 4 – Teachings and Guided Meditation\n\n\nWHO SHOULD JOIN: This event is suitable for practitioners of any level of experience\, both beginning meditators and advanced practitioners. We welcome meditators near and far to join us for the online meditation experience. \nREGISTRATION: Registration is required for this course. Registration fees are non-refundable. To register\, select an option under the Tickets heading at the bottom of this page. \nCOURSE FEE: The sliding scale fee range is from $250 to $40. This includes support for IMSB and the teacher. The lower end of the sliding scale is intended for those with limited financial means. We encourage you to choose the highest level that is appropriate for your economic situation\, and find joy by supporting our teacher and IMSB. \nTAX DEDUCTIONS: The base registration fee of $80 is not tax deductible. Donations above the base rate will be considered voluntary contributions and are deductible for any amount that is over the base rate. Each January\, the IMSB treasurer sends donors letters that acknowledge the amount given in the previous year that is above the base rate; this serves as documentation for tax deduction purposes. \nCANCELLATION POLICY: All fees and payments are non-refundable. If it becomes necessary to cancel participation in a course\, and the registrar is notified prior to the start of the event\, your registration fee (less a $25 processing fee) will be converted into a voucher creditable towards the fee for a future IMSB program. Vouchers must be used within one year of the initial course start date\, and may be transferred to only one future course. \nDANA/DONATIONS: IMSB relies upon the generosity of participants to support our teachers and cover organizational expenses. Dana is a word in the ancient Pali language that describes donations\, offerings and generosity. Since we are using an online registration system for this online event\, we encourage you to give joyfully and generously by selecting the highest rate that is appropriate for your resources and means. Additionally\, donations are always gratefully accepted for both Teacher Dana and IMSB’s General Operations through our Donation Page where you will find alternative ways to give. IMSB is a 501(c) (3) organization. Donations are tax deductible as permitted by law.
URL:https://www.imsb.org/event/new-years-event-with-shaila-catherine-peace-and-clarity/
LOCATION:Online
CATEGORIES:Day-Long and Half Day,Retreats with Shaila
ORGANIZER;CN="Event Coordinator":MAILTO:To find email click on Event Coordinator above
END:VEVENT
END:VCALENDAR