BEGIN:VCALENDAR
VERSION:2.0
PRODID:-//Insight Meditation South Bay - ECPv6.15.20//NONSGML v1.0//EN
CALSCALE:GREGORIAN
METHOD:PUBLISH
X-WR-CALNAME:Insight Meditation South Bay
X-ORIGINAL-URL:https://www.imsb.org
X-WR-CALDESC:Events for Insight Meditation South Bay
REFRESH-INTERVAL;VALUE=DURATION:PT1H
X-Robots-Tag:noindex
X-PUBLISHED-TTL:PT1H
BEGIN:VTIMEZONE
TZID:America/Los_Angeles
BEGIN:DAYLIGHT
TZOFFSETFROM:-0800
TZOFFSETTO:-0700
TZNAME:PDT
DTSTART:20210314T100000
END:DAYLIGHT
BEGIN:STANDARD
TZOFFSETFROM:-0700
TZOFFSETTO:-0800
TZNAME:PST
DTSTART:20211107T090000
END:STANDARD
BEGIN:DAYLIGHT
TZOFFSETFROM:-0800
TZOFFSETTO:-0700
TZNAME:PDT
DTSTART:20220313T100000
END:DAYLIGHT
BEGIN:STANDARD
TZOFFSETFROM:-0700
TZOFFSETTO:-0800
TZNAME:PST
DTSTART:20221106T090000
END:STANDARD
BEGIN:DAYLIGHT
TZOFFSETFROM:-0800
TZOFFSETTO:-0700
TZNAME:PDT
DTSTART:20230312T100000
END:DAYLIGHT
BEGIN:STANDARD
TZOFFSETFROM:-0700
TZOFFSETTO:-0800
TZNAME:PST
DTSTART:20231105T090000
END:STANDARD
END:VTIMEZONE
BEGIN:VEVENT
DTSTART;TZID=America/Los_Angeles:20221002T180000
DTEND;TZID=America/Los_Angeles:20221002T200000
DTSTAMP:20260420T143609
CREATED:20220816T234231Z
LAST-MODIFIED:20220816T234231Z
UID:10009044-1664733600-1664740800@www.imsb.org
SUMMARY:Online Talk: Introduction to Beyond Distraction
DESCRIPTION:Beyond Distraction\nSunday\, October 2\, 2022. 6 – 8 PM Pacific Time \nSitting Meditation and Dhamma Talk with Shaila Catherine \nVisit the Marin Sangha website for more information: https://marinsangha.org/teachers.php?t=catherine
URL:https://www.imsb.org/event/2022-10-02/
LOCATION:Online
CATEGORIES:Monthly Meditation,Online Programs
END:VEVENT
BEGIN:VEVENT
DTSTART;VALUE=DATE:20221008
DTEND;VALUE=DATE:20221010
DTSTAMP:20260420T143609
CREATED:20210915T001013Z
LAST-MODIFIED:20220703T060808Z
UID:10009019-1665187200-1665359999@www.imsb.org
SUMMARY:Weekend Online Retreat: Mindfulness of Death
DESCRIPTION:Shaila Catherine will lead this ONLINE weekend meditation program on the theme of Mindfulness of Death \nOctober 8 and 9\, 2022  \nOrganized by the Dharma Zephyr Insight Meditation Community in Nevada. \nFor information and registration details\, visit the Dharma Zephyr Insight Meditation Community website at: https://dharmazephyr.org/event/mindfulness-of-death-an-online-weekend-retreat-via-zoom-with-shaila-catherine/ \nThis event is offered on the basis of generosity (dāna). Please offer whatever amount you wish to support the teacher and the Dharma Zephyr sangha.
URL:https://www.imsb.org/event/nevada-weekend-retreat/
LOCATION:CA
CATEGORIES:Retreats with Shaila
END:VEVENT
END:VCALENDAR