BEGIN:VCALENDAR
VERSION:2.0
PRODID:-//Insight Meditation South Bay - ECPv6.15.20//NONSGML v1.0//EN
CALSCALE:GREGORIAN
METHOD:PUBLISH
X-ORIGINAL-URL:https://www.imsb.org
X-WR-CALDESC:Events for Insight Meditation South Bay
REFRESH-INTERVAL;VALUE=DURATION:PT1H
X-Robots-Tag:noindex
X-PUBLISHED-TTL:PT1H
BEGIN:VTIMEZONE
TZID:America/Los_Angeles
BEGIN:DAYLIGHT
TZOFFSETFROM:-0800
TZOFFSETTO:-0700
TZNAME:PDT
DTSTART:20140309T100000
END:DAYLIGHT
BEGIN:STANDARD
TZOFFSETFROM:-0700
TZOFFSETTO:-0800
TZNAME:PST
DTSTART:20141102T090000
END:STANDARD
BEGIN:DAYLIGHT
TZOFFSETFROM:-0800
TZOFFSETTO:-0700
TZNAME:PDT
DTSTART:20150308T100000
END:DAYLIGHT
BEGIN:STANDARD
TZOFFSETFROM:-0700
TZOFFSETTO:-0800
TZNAME:PST
DTSTART:20151101T090000
END:STANDARD
BEGIN:DAYLIGHT
TZOFFSETFROM:-0800
TZOFFSETTO:-0700
TZNAME:PDT
DTSTART:20160313T100000
END:DAYLIGHT
BEGIN:STANDARD
TZOFFSETFROM:-0700
TZOFFSETTO:-0800
TZNAME:PST
DTSTART:20161106T090000
END:STANDARD
BEGIN:DAYLIGHT
TZOFFSETFROM:-0800
TZOFFSETTO:-0700
TZNAME:PDT
DTSTART:20170312T100000
END:DAYLIGHT
BEGIN:STANDARD
TZOFFSETFROM:-0700
TZOFFSETTO:-0800
TZNAME:PST
DTSTART:20171105T090000
END:STANDARD
BEGIN:DAYLIGHT
TZOFFSETFROM:-0800
TZOFFSETTO:-0700
TZNAME:PDT
DTSTART:20180311T100000
END:DAYLIGHT
BEGIN:STANDARD
TZOFFSETFROM:-0700
TZOFFSETTO:-0800
TZNAME:PST
DTSTART:20181104T090000
END:STANDARD
BEGIN:DAYLIGHT
TZOFFSETFROM:-0800
TZOFFSETTO:-0700
TZNAME:PDT
DTSTART:20190310T100000
END:DAYLIGHT
BEGIN:STANDARD
TZOFFSETFROM:-0700
TZOFFSETTO:-0800
TZNAME:PST
DTSTART:20191103T090000
END:STANDARD
END:VTIMEZONE
BEGIN:VEVENT
DTSTART;TZID=America/Los_Angeles:20180804T100000
DTEND;TZID=America/Los_Angeles:20180804T170000
DTSTAMP:20260419T125202
CREATED:20170708T032144Z
LAST-MODIFIED:20170808T180642Z
UID:10008775-1533376800-1533402000@www.imsb.org
SUMMARY:Daylong in Santa Cruz - Relax\, Let Go\, Keep Trying!
DESCRIPTION:Title: Relax\, Let Go\, Keep Trying! \nA day long with Shaila Catherine \nBalanced and skillful effort is a vital meditative skill. This daylong program will cultivate relaxation\, letting go\, and persistence as we learn a how gentle diligent effort supports the deepening of concentration and insight.\nThis day long retreat is suitable for both new and experienced practitioners.
URL:https://www.imsb.org/event/daylong-in-santa-cruz-relax-let-go-keep-trying/
LOCATION:Insight Santa Cruz\, 740 Front Street\, Suite 240\, Santa Cruz\, CA\, 95060\, United States
CATEGORIES:Day-Long and Half Day
ORGANIZER;CN="Insight Santa Cruz":MAILTO:Click the link under organizer.
GEO:36.9755561;-122.0248903
X-APPLE-STRUCTURED-LOCATION;VALUE=URI;X-ADDRESS=Insight Santa Cruz 740 Front Street Suite 240 Santa Cruz CA 95060 United States;X-APPLE-RADIUS=500;X-TITLE=740 Front Street\, Suite 240:geo:-122.0248903,36.9755561
END:VEVENT
BEGIN:VEVENT
DTSTART;TZID=America/Los_Angeles:20160611T100000
DTEND;TZID=America/Los_Angeles:20160611T170000
DTSTAMP:20260419T125202
CREATED:20150716T180230Z
LAST-MODIFIED:20150716T180230Z
UID:10008650-1465639200-1465664400@www.imsb.org
SUMMARY:Daylong in Santa Cruz – Effort & Ease
DESCRIPTION:Effort and Ease: What needs to be done? \nThis day-long will explore the vital role of skillful effort in meditation practice. Skill in effort is not a matter of doggedly trying harder. Relaxation\, commitment\, ease\, trust\, inspiration\, as well as diligent perseverance are needed to bring balance to our effort and enable meditation practice to succeed.
URL:https://www.imsb.org/event/daylong-in-santa-cruz-effort-ease/
LOCATION:Insight Santa Cruz\, 740 Front Street\, Suite 240\, Santa Cruz\, CA\, 95060\, United States
CATEGORIES:Day-Long and Half Day,Not an IMSB event
ORGANIZER;CN="Insight Santa Cruz":MAILTO:Click the link under organizer.
GEO:36.9755561;-122.0248903
X-APPLE-STRUCTURED-LOCATION;VALUE=URI;X-ADDRESS=Insight Santa Cruz 740 Front Street Suite 240 Santa Cruz CA 95060 United States;X-APPLE-RADIUS=500;X-TITLE=740 Front Street\, Suite 240:geo:-122.0248903,36.9755561
END:VEVENT
BEGIN:VEVENT
DTSTART;TZID=America/Los_Angeles:20150530T093000
DTEND;TZID=America/Los_Angeles:20150530T170000
DTSTAMP:20260419T125202
CREATED:20141126T191610Z
LAST-MODIFIED:20141208T011253Z
UID:10008559-1432978200-1433005200@www.imsb.org
SUMMARY:Daylong in Santa Cruz with Shaila Catherine
DESCRIPTION:Living Without Enemies \nThe Buddha said\, “The world may quarrel with me\, but I do not quarrel with the world.” How can we live our lives without causing conflict—without making anyone into an enemy? This day long program will blend sitting and walking meditations with teachings and reflection to discover how unpleasant experiences might lead an untrained mind toward anger\, blame\, prejudice\, and hatred. We will consider how anger can develop into violence and learn ways to transform this tendency so that we meet pain\, and even abuse\, with a balanced\, kind\, and wise attention. Meditative insights can change our lives—they can free the mind from the underlying tendency to hate.
URL:https://www.imsb.org/event/daylong-in-santa-cruz/
LOCATION:Insight Santa Cruz\, 740 Front Street\, Suite 240\, Santa Cruz\, CA\, 95060\, United States
CATEGORIES:Day-Long and Half Day,Not an IMSB event
ORGANIZER;CN="Insight Santa Cruz":MAILTO:Click the link under organizer.
GEO:36.9755561;-122.0248903
X-APPLE-STRUCTURED-LOCATION;VALUE=URI;X-ADDRESS=Insight Santa Cruz 740 Front Street Suite 240 Santa Cruz CA 95060 United States;X-APPLE-RADIUS=500;X-TITLE=740 Front Street\, Suite 240:geo:-122.0248903,36.9755561
END:VEVENT
END:VCALENDAR