BEGIN:VCALENDAR
VERSION:2.0
PRODID:-//Insight Meditation South Bay - ECPv6.15.20//NONSGML v1.0//EN
CALSCALE:GREGORIAN
METHOD:PUBLISH
X-ORIGINAL-URL:https://www.imsb.org
X-WR-CALDESC:Events for Insight Meditation South Bay
REFRESH-INTERVAL;VALUE=DURATION:PT1H
X-Robots-Tag:noindex
X-PUBLISHED-TTL:PT1H
BEGIN:VTIMEZONE
TZID:America/Los_Angeles
BEGIN:DAYLIGHT
TZOFFSETFROM:-0800
TZOFFSETTO:-0700
TZNAME:PDT
DTSTART:20140309T100000
END:DAYLIGHT
BEGIN:STANDARD
TZOFFSETFROM:-0700
TZOFFSETTO:-0800
TZNAME:PST
DTSTART:20141102T090000
END:STANDARD
BEGIN:DAYLIGHT
TZOFFSETFROM:-0800
TZOFFSETTO:-0700
TZNAME:PDT
DTSTART:20150308T100000
END:DAYLIGHT
BEGIN:STANDARD
TZOFFSETFROM:-0700
TZOFFSETTO:-0800
TZNAME:PST
DTSTART:20151101T090000
END:STANDARD
BEGIN:DAYLIGHT
TZOFFSETFROM:-0800
TZOFFSETTO:-0700
TZNAME:PDT
DTSTART:20160313T100000
END:DAYLIGHT
BEGIN:STANDARD
TZOFFSETFROM:-0700
TZOFFSETTO:-0800
TZNAME:PST
DTSTART:20161106T090000
END:STANDARD
BEGIN:DAYLIGHT
TZOFFSETFROM:-0800
TZOFFSETTO:-0700
TZNAME:PDT
DTSTART:20170312T100000
END:DAYLIGHT
BEGIN:STANDARD
TZOFFSETFROM:-0700
TZOFFSETTO:-0800
TZNAME:PST
DTSTART:20171105T090000
END:STANDARD
BEGIN:DAYLIGHT
TZOFFSETFROM:-0800
TZOFFSETTO:-0700
TZNAME:PDT
DTSTART:20180311T100000
END:DAYLIGHT
BEGIN:STANDARD
TZOFFSETFROM:-0700
TZOFFSETTO:-0800
TZNAME:PST
DTSTART:20181104T090000
END:STANDARD
END:VTIMEZONE
BEGIN:VEVENT
DTSTART;VALUE=DATE:20170615
DTEND;VALUE=DATE:20170626
DTSTAMP:20260422T233700
CREATED:20160625T232109Z
LAST-MODIFIED:20170528T191711Z
UID:10008509-1497484800-1498435199@www.imsb.org
SUMMARY:Meditation Retreat in Santa Rosa\, CA with Shaila Catherine and Ann Dillon
DESCRIPTION:An Intensive Concentration and Insight Retreat\nTHIS RETREAT HAS FILLED. REGISTRATION HAS CLOSED.  \nIn 2018 we will offer two retreats in California: April 5-15\, and September 27 – October 4. Information will be posted soon to this website for advanced registration.  \nwith Shaila Catherine and Ann Dillon\nJune 15 – 25\, 2017 \n  \nThursday\, June 15\, 2017 – Sunday\, June 25\, 2017. \nThe retreat begins with registration at 1:00 pm on June 15; it ends at 11:30 am on June 25. Early arrivals can be arranged for Wednesday evening June 14. \nPartial attendance can be arranged\, but it must begin on the first day of the retreat. \nThe teachings on this retreat will be structured to support the development of concentration\, mindfulness\, and insight. The daily group instruction sessions will introduce mindfulness with breathing as a concentration practice\, and will systematically develop the skills that lead to the deep absorption states of jhana. This retreat is an ideal opportunity to train in concentration and jhana practices with personal guidance from Shaila Catherine. It is the one retreat each year that Shaila emphasizes concentration and jhana\, and systematically guides students through this powerful training method. Students who wish to embark on this training in concentration and jhana should read her book\, Focused and Fearless\, prior to the retreat. Click on our Concentration and Jhana FAQ page for more information about studying jhana and concentration with Shaila. \nJhana instructions will be offered\, but this retreat is not limited to the training in concentration and jhana; students who want to practice mindfulness or metta without an emphasis on concentration are most welcome. Teachings will explore a range of subjects to support the growth of wisdom and cultivate conditions conducive for insight. \nWith single rooms for everyone\, the facilities can support a range of practice approaches. The approach to teaching is flexible enough to nurture a broad development of practices that are appropriate to the individual meditator. Guided by group and individual meetings with the teachers\, students may work with a variety of meditative approaches to progress in a manner and pace appropriate to their individual needs. Students who are not inclined toward concentration or jhana may choose to emphasize mindfulness\, insight\, and loving kindness practices. As the retreat progresses\, some students may practice mindfulness of the body to enhance calm and presence; some students may intensify concentration to unify consciousness through the deep absorptions called jhana; some students may cultivate loving kindness and open the heart to the precious fragility of life; and other students may nurture insight into the functioning of perception and the nature of mind. \nThis silent retreat is structured with alternating periods of sitting and walking meditation\, dhamma teachings\, question and answer sessions\, and teacher consultations. \nRegister early! Space is limited.\nWe keep this retreat small (approximately 35 participants and 2 teachers) to enable in-depth one-to-one guidance. It is a powerful and intimate environment for deep meditation practice—very suitable for dedicated practitioners and an ideal introduction to jhana practices. \nTO REGISTER: Download and complete the AC2017 registration and waiver forms\, enclose a non-refundable deposit of $250 (payable to Bodhi-Retreats)\, and return via email and/or postal mail to: \nKatrina Bergbauer\n225 Second Avenue\nDecatur\, GA 30030 \nretreats \n\nForm-Fillable PDF Registration Form – AC2017\nStandard Printable Registration Form – AC2017\nWaiver of Liability – AC2017\n\nThe 10-day retreat is designed for experienced students. Previous retreat experience in the insight meditation tradition is required\, with a minimum of at least one week-long silent residential retreat. If you have less than one week-long silent retreat experience\, your attendance requires approval from the teacher(s). \nThe retreat facility is handicapped accessible. Accommodations are all single rooms. \nCOST: 10 nights with single accommodation is $2000 – $990 sliding scale\, plus a donation to the teachers at the end of retreat. The estimated actual per-person cost for this retreat (if we used a fixed rate) is $1500. By selecting an amount above $1500\, your generosity supports those who need to select a lower rate to attend the retreat. This sliding scale will allow scholarship needs to be handled by self-selecting an amount lower than $1500. \nPartial retreat option registration fees are below. Priority will be given to students who are registering for the full 10-days course. \n\n3 nights (Thursday–Sunday) is $900 – $500 sliding scale\n4 nights (Thursday–Monday) is $1000 – $600 sliding scale\n5 nights (Thursday–Tuesday) is $1100 – $700 sliding scale\n6 nights (Thursday–Wednesday) is $1200 – $800 sliding scale\n7-10 nights (Thursday–Thursday\, Friday\, or Saturday) is the sliding scale of $2000 – $990\n\nIn addition\, two or three people may register for a work-study retreat. These service roles have a registration fee of $675 and involve 3-4 hours of work per day (mostly kitchen work\, grocery shopping in advance of the retreat\, managing yogi jobs). \nDANA: Compensation for the teacher is not included in the registration price. There will be an opportunity to offer donations to the teachers at the end of the retreat. \nCo-Sponsored by Bodhi-Retreats and Insight Meditation South Bay
URL:https://www.imsb.org/event/retreat-in-santa-rosa-ca/
LOCATION:Angela Retreat Center\, 535 Angela Dr.\, Santa Rosa\, CA\, CA\, United States
CATEGORIES:Retreats with Shaila
ORGANIZER;CN="Bodhi Retreats Registrar-1":MAILTO:Click on link under Organizer.
GEO:38.4951071;-122.7401357
X-APPLE-STRUCTURED-LOCATION;VALUE=URI;X-ADDRESS=Angela Retreat Center 535 Angela Dr. Santa Rosa CA CA United States;X-APPLE-RADIUS=500;X-TITLE=535 Angela Dr.:geo:-122.7401357,38.4951071
END:VEVENT
BEGIN:VEVENT
DTSTART;VALUE=DATE:20160630
DTEND;VALUE=DATE:20160711
DTSTAMP:20260422T233700
CREATED:20150622T020033Z
LAST-MODIFIED:20170216T173513Z
UID:10008627-1467244800-1468195199@www.imsb.org
SUMMARY:Residential Retreat—Santa Rosa\, CA
DESCRIPTION:Mindfulness\, Concentration\, and Insight Meditation.\nA meditation retreat\nwith Shaila Catherine and Ann Dillon.\nThursday\, June 30\, 2016 – Sunday\, July 10\, 2016. \nThe retreat begins with registration at 1:00 pm on June 30; it ends at 11:30 am on July 10. Early arrivals can be arranged for Wednesday evening June 29. \nPartial attendance can be arranged\, but it must begin on the first day of the retreat. \nThe teachings on this retreat will be structured to support the development of concentration\, mindfulness\, and insight using the breath as the primary meditative object. Guided by group and individual meetings with the teacher\, students may work with a variety of meditative approaches to progress in a manner and pace appropriate to their individual needs. The daily morning instruction session will introduce mindfulness with breathing as a concentration practice and will systematically develop the skills that lead to the deep absorption states of jhana. Dhamma talks will explore a range of subjects to support the growth of wisdom and insight. This silent retreat is structured with alternating periods of sitting and walking meditation\, dhamma teachings\, question and answer sessions\, and teacher consultations. \nWith single rooms for everyone\, the facilities can support a range of practice approaches. This retreat may emphasize the cultivation of concentration\, but it is flexible enough to nurture a broad development of practices that are appropriate to the individual meditator. Students who are not inclined toward concentration or jhana may choose to emphasize mindfulness\, insight\, and loving kindness practices. As the retreat progresses\, some students may practice mindfulness of the body to enhance calm and presence; some students may intensify concentration to unify consciousness through the deep absorptions called jhana; some students may cultivate loving kindness and open the heart to the precious fragility of life; and other students may nurture insight into the functioning of perception and the nature of mind. \nTO REGISTER: Download and complete the AC2016 registration and waiver forms\, enclose a non-refundable deposit of $250 (payable to Bodhi-Retreats)\, and mail to: \nKatrina Bergbauer\n225 Second Avenue\nDecatur\, GA 30030 \nThe 10-day retreat is designed for experienced students. Previous retreat experience in the insight meditation tradition is required\, with a minimum of at least one week-long silent residential retreat. If you have less than one week-long silent retreat experience\, your attendance requires approval from the teacher(s). \nThe retreat facility is handicapped accessible. Accommodations are all single rooms. \nCOST: 10 nights with single accommodation is $1800 – $950 sliding scale\, plus a donation to the teachers at the end of retreat. The estimated actual per-person cost for this retreat (if we used a fixed rate) is $1400. By selecting an amount above $1400\, your generosity supports those who need to select a lower rate to attend the retreat. This sliding scale will allow scholarship needs to be handled by self-selecting an amount lower than $1400. \nPartial retreat option registration fees are below. Priority will be given to students who are registering for the full 10-days course.\n3 nights (Thursday–Sunday\, June 30–July 3) is $520\n4 nights (Thursday–Monday\, June 30– July 4) is $640\n5 nights (Thursday–Tuesday\, June 30– July 5) is $780\n6 nights (Thursday–Wednesday\, June 30– July 6) is $880\n7–9 nights (Thursday–Thursday\, Friday\, or Saturday\, June 30–July 7\, 8\, or 9) is the standard sliding scale of $1800 – $950 \nIn addition\, two or three people may register for a work-study retreat. These service roles have a registration fee of $675 and involve 3-4 hours of work per day (mostly kitchen work\, grocery shopping in advance of the retreat\, managing yogi jobs\, running errands). One service role for an experienced cook or kitchen manager may be available with no retreat fees. \nDANA: Compensation for the teacher is not included in the registration price. There will be an opportunity to offer donations to the teachers at the end of the retreat. \nCo-Sponsored by Bodhi-Retreats and Insight Meditation South Bay
URL:https://www.imsb.org/event/residential-retreat-santa-rosa-ca/
LOCATION:Angela Retreat Center\, 535 Angela Dr.\, Santa Rosa\, CA\, CA\, United States
CATEGORIES:Retreats with Shaila
ORGANIZER;CN="Bodhi Retreats Registrar-1":MAILTO:Click on link under Organizer.
GEO:38.4951071;-122.7401357
X-APPLE-STRUCTURED-LOCATION;VALUE=URI;X-ADDRESS=Angela Retreat Center 535 Angela Dr. Santa Rosa CA CA United States;X-APPLE-RADIUS=500;X-TITLE=535 Angela Dr.:geo:-122.7401357,38.4951071
END:VEVENT
BEGIN:VEVENT
DTSTART;VALUE=DATE:20151105
DTEND;VALUE=DATE:20151116
DTSTAMP:20260422T233700
CREATED:20140907T041122Z
LAST-MODIFIED:20170216T173533Z
UID:10008525-1446681600-1447631999@www.imsb.org
SUMMARY:Residential Retreat—Santa Rosa\, CA
DESCRIPTION:Registration Ends Sunday October 25!\nMindfulness\, Concentration\, and Insight Meditation.\nA 10-day meditation retreat\nwith Shaila Catherine and Ann Dillon. \nThursday\, November 5\, 2015 – Sunday\, November 15\, 2015. \nThe retreat begins with registration at 1:00 pm on Thursday\, November 5; it ends at 11:30 am on Sunday\, November 15. Early arrivals can be arranged for Wednesday November 4. \nPartial attendance can be arranged\, but it must begin on the first day of the retreat. \nThe teachings on this retreat will be structured to support the development of concentration\, mindfulness\, and insight using the breath as the primary meditative object. Guided by group and individual meetings with the teacher\, students may work with a variety of meditative approaches to progress in a manner and pace appropriate to their individual needs. The daily morning instruction session will introduce mindfulness with breathing as a concentration practice and will systematically develop the skills that lead to the deep absorption states of jhana. Dhamma talks will explore a range of subjects to support the growth of wisdom and insight. This silent retreat is structured with alternating periods of sitting and walking meditation\, dhamma teachings\, question and answer sessions\, and teacher consultations. \nWith single rooms for everyone\, the facilities can support a range of practice approaches. This retreat may emphasize the cultivation of concentration\, but it is flexible enough to nurture a broad development of practices that are appropriate to the individual meditator. Students who are not inclined toward concentration or jhana may choose to emphasize mindfulness\, insight\, and loving kindness practices. As the retreat progresses\, some students may practice mindfulness of the body to enhance calm and presence; some students may intensify concentration to unify consciousness through the deep absorptions called jhana; some students may cultivate loving kindness and open the heart to the precious fragility of life; and other students may nurture insight into the functioning of perception and the nature of mind. \nTO REGISTER: Download and complete the AC2015 registration and waiver forms\, enclose a non-refundable deposit of $250 (payable to Bodhi-Retreats)\, and mail to: \nKatrina Bergbauer\n225 Second Avenue\nDecatur\, GA 30030 \nThis retreat is designed for experienced students. Previous retreat experience in the insight meditation tradition is required\, with a minimum of at least one week-long silent residential retreat. If you have less than one week-long silent retreat experience\, your attendance requires approval from the teacher(s). \nThe retreat facility is handicapped accessible. Accommodations are all single rooms. \nCost: 10 nights with single accommodation is $1800 – $950 sliding scale\, plus a donation to the teachers at the end of retreat. The estimated actual per-person cost for this retreat (if we used a fixed rate) is $1400. By selecting an amount above $1400\, your generosity supports those who need to select a lower rate to attend the retreat. This sliding scale will allow scholarship needs to be handled by self-selecting an amount lower than $1400. \nIn addition\, two or three people may register for a work-study retreat. These service roles have a registration fee of $675 and involve 3-4 hours of work per day (mostly kitchen work\, grocery shopping in advance of the retreat\, or managing yogi jobs). One service role for an experienced cook or kitchen manager may be available with no retreat fees. \nDANA: Compensation for the teacher is not included in the registration price. There will be an opportunity to offer donations to the teachers at the end of the retreat. \nCo-Sponsored by Bodhi-Retreats and Insight Meditation South Bay
URL:https://www.imsb.org/event/mindfulness-concentration-and-insight-meditation-a-10-day-meditation-retreat-in-santa-rosa-ca-with-shaila-catherine-and-ann-dillon/
LOCATION:Angela Retreat Center\, 535 Angela Dr.\, Santa Rosa\, CA\, CA\, United States
CATEGORIES:Retreats with Shaila
ORGANIZER;CN="Bodhi Retreats Registrar-1":MAILTO:Click on link under Organizer.
GEO:38.4951071;-122.7401357
X-APPLE-STRUCTURED-LOCATION;VALUE=URI;X-ADDRESS=Angela Retreat Center 535 Angela Dr. Santa Rosa CA CA United States;X-APPLE-RADIUS=500;X-TITLE=535 Angela Dr.:geo:-122.7401357,38.4951071
END:VEVENT
END:VCALENDAR