BEGIN:VCALENDAR
VERSION:2.0
PRODID:-//Insight Meditation South Bay - ECPv6.15.20//NONSGML v1.0//EN
CALSCALE:GREGORIAN
METHOD:PUBLISH
X-WR-CALNAME:Insight Meditation South Bay
X-ORIGINAL-URL:https://www.imsb.org
X-WR-CALDESC:Events for Insight Meditation South Bay
REFRESH-INTERVAL;VALUE=DURATION:PT1H
X-Robots-Tag:noindex
X-PUBLISHED-TTL:PT1H
BEGIN:VTIMEZONE
TZID:America/Los_Angeles
BEGIN:DAYLIGHT
TZOFFSETFROM:-0800
TZOFFSETTO:-0700
TZNAME:PDT
DTSTART:20160313T100000
END:DAYLIGHT
BEGIN:STANDARD
TZOFFSETFROM:-0700
TZOFFSETTO:-0800
TZNAME:PST
DTSTART:20161106T090000
END:STANDARD
BEGIN:DAYLIGHT
TZOFFSETFROM:-0800
TZOFFSETTO:-0700
TZNAME:PDT
DTSTART:20170312T100000
END:DAYLIGHT
BEGIN:STANDARD
TZOFFSETFROM:-0700
TZOFFSETTO:-0800
TZNAME:PST
DTSTART:20171105T090000
END:STANDARD
BEGIN:DAYLIGHT
TZOFFSETFROM:-0800
TZOFFSETTO:-0700
TZNAME:PDT
DTSTART:20180311T100000
END:DAYLIGHT
BEGIN:STANDARD
TZOFFSETFROM:-0700
TZOFFSETTO:-0800
TZNAME:PST
DTSTART:20181104T090000
END:STANDARD
BEGIN:DAYLIGHT
TZOFFSETFROM:-0800
TZOFFSETTO:-0700
TZNAME:PDT
DTSTART:20190310T100000
END:DAYLIGHT
BEGIN:STANDARD
TZOFFSETFROM:-0700
TZOFFSETTO:-0800
TZNAME:PST
DTSTART:20191103T090000
END:STANDARD
BEGIN:DAYLIGHT
TZOFFSETFROM:-0800
TZOFFSETTO:-0700
TZNAME:PDT
DTSTART:20200308T100000
END:DAYLIGHT
BEGIN:STANDARD
TZOFFSETFROM:-0700
TZOFFSETTO:-0800
TZNAME:PST
DTSTART:20201101T090000
END:STANDARD
BEGIN:DAYLIGHT
TZOFFSETFROM:-0800
TZOFFSETTO:-0700
TZNAME:PDT
DTSTART:20210314T100000
END:DAYLIGHT
BEGIN:STANDARD
TZOFFSETFROM:-0700
TZOFFSETTO:-0800
TZNAME:PST
DTSTART:20211107T090000
END:STANDARD
BEGIN:DAYLIGHT
TZOFFSETFROM:-0800
TZOFFSETTO:-0700
TZNAME:PDT
DTSTART:20220313T100000
END:DAYLIGHT
BEGIN:STANDARD
TZOFFSETFROM:-0700
TZOFFSETTO:-0800
TZNAME:PST
DTSTART:20221106T090000
END:STANDARD
BEGIN:DAYLIGHT
TZOFFSETFROM:-0800
TZOFFSETTO:-0700
TZNAME:PDT
DTSTART:20230312T100000
END:DAYLIGHT
BEGIN:STANDARD
TZOFFSETFROM:-0700
TZOFFSETTO:-0800
TZNAME:PST
DTSTART:20231105T090000
END:STANDARD
BEGIN:DAYLIGHT
TZOFFSETFROM:-0800
TZOFFSETTO:-0700
TZNAME:PDT
DTSTART:20240310T100000
END:DAYLIGHT
BEGIN:STANDARD
TZOFFSETFROM:-0700
TZOFFSETTO:-0800
TZNAME:PST
DTSTART:20241103T090000
END:STANDARD
BEGIN:DAYLIGHT
TZOFFSETFROM:-0800
TZOFFSETTO:-0700
TZNAME:PDT
DTSTART:20250309T100000
END:DAYLIGHT
BEGIN:STANDARD
TZOFFSETFROM:-0700
TZOFFSETTO:-0800
TZNAME:PST
DTSTART:20251102T090000
END:STANDARD
BEGIN:DAYLIGHT
TZOFFSETFROM:-0800
TZOFFSETTO:-0700
TZNAME:PDT
DTSTART:20260308T100000
END:DAYLIGHT
BEGIN:STANDARD
TZOFFSETFROM:-0700
TZOFFSETTO:-0800
TZNAME:PST
DTSTART:20261101T090000
END:STANDARD
END:VTIMEZONE
BEGIN:VEVENT
DTSTART;VALUE=DATE:20250701
DTEND;VALUE=DATE:20250702
DTSTAMP:20260420T082930
CREATED:20250507T023827Z
LAST-MODIFIED:20250507T023941Z
UID:10009542-1751328000-1751414399@www.imsb.org
SUMMARY:Month-long Personal Retreat in Barre\, MA
DESCRIPTION:Venerable U Jagara and Shaila Catherine will be guiding a month-long retreat at the Forest Refuge at Insight Meditation Society in Barre\, MA. \nVisit the Forest Refuge schedule for details.
URL:https://www.imsb.org/event/month-long-personal-retreat-in-barre-ma/
LOCATION:Insight Meditation Society\, 1230 Pleasant St.\, Barre\, MA\, 01005\, United States
CATEGORIES:Retreats with Shaila
GEO:42.45167;-72.12391
X-APPLE-STRUCTURED-LOCATION;VALUE=URI;X-ADDRESS=Insight Meditation Society 1230 Pleasant St. Barre MA 01005 United States;X-APPLE-RADIUS=500;X-TITLE=1230 Pleasant St.:geo:-72.12391,42.45167
END:VEVENT
BEGIN:VEVENT
DTSTART;VALUE=DATE:20170301
DTEND;VALUE=DATE:20170302
DTSTAMP:20260420T082930
CREATED:20160625T230156Z
LAST-MODIFIED:20170216T173506Z
UID:10008503-1488326400-1488412799@www.imsb.org
SUMMARY:One month retreat with Shaila Catherine and U Jagara in Massachusetts
DESCRIPTION:Shaila Catherine and Venerable U Jagara will be teaching a month long retreat from March 1-31 at the Forest Refuge of the Insight Meditation Society in Barre\, MA. \nFor details visit www.dharma.org. \nPlease note that this month long retreat is organized to support personal meditation practice and assumes a high degree of self-reliance. The theme for the dhamma teachings is the Gradual Path of practice. It is not organized as a group jhana retreat\, so daily systematic jhana instructions are not included in the program. Individual guidance will be provided through two interviews per week\, as is the custom at the Forest Refuge. \nIf you are specifically seeking a concentration and jhana oriented program with Shaila\, please read my FAQ page on Concentration and Jhana Training.
URL:https://www.imsb.org/event/one-month-retreat-with-shaila-catherine-and-u-jagara-in-massachusetts/
LOCATION:Insight Meditation Society\, 1230 Pleasant St.\, Barre\, MA\, 01005\, United States
CATEGORIES:Retreats with Shaila
GEO:42.45167;-72.12391
X-APPLE-STRUCTURED-LOCATION;VALUE=URI;X-ADDRESS=Insight Meditation Society 1230 Pleasant St. Barre MA 01005 United States;X-APPLE-RADIUS=500;X-TITLE=1230 Pleasant St.:geo:-72.12391,42.45167
END:VEVENT
END:VCALENDAR