BEGIN:VCALENDAR
VERSION:2.0
PRODID:-//Insight Meditation South Bay - ECPv6.15.20//NONSGML v1.0//EN
CALSCALE:GREGORIAN
METHOD:PUBLISH
X-ORIGINAL-URL:https://www.imsb.org
X-WR-CALDESC:Events for Insight Meditation South Bay
REFRESH-INTERVAL;VALUE=DURATION:PT1H
X-Robots-Tag:noindex
X-PUBLISHED-TTL:PT1H
BEGIN:VTIMEZONE
TZID:America/Los_Angeles
BEGIN:DAYLIGHT
TZOFFSETFROM:-0800
TZOFFSETTO:-0700
TZNAME:PDT
DTSTART:20130310T100000
END:DAYLIGHT
BEGIN:STANDARD
TZOFFSETFROM:-0700
TZOFFSETTO:-0800
TZNAME:PST
DTSTART:20131103T090000
END:STANDARD
BEGIN:DAYLIGHT
TZOFFSETFROM:-0800
TZOFFSETTO:-0700
TZNAME:PDT
DTSTART:20140309T100000
END:DAYLIGHT
BEGIN:STANDARD
TZOFFSETFROM:-0700
TZOFFSETTO:-0800
TZNAME:PST
DTSTART:20141102T090000
END:STANDARD
BEGIN:DAYLIGHT
TZOFFSETFROM:-0800
TZOFFSETTO:-0700
TZNAME:PDT
DTSTART:20150308T100000
END:DAYLIGHT
BEGIN:STANDARD
TZOFFSETFROM:-0700
TZOFFSETTO:-0800
TZNAME:PST
DTSTART:20151101T090000
END:STANDARD
BEGIN:DAYLIGHT
TZOFFSETFROM:-0800
TZOFFSETTO:-0700
TZNAME:PDT
DTSTART:20160313T100000
END:DAYLIGHT
BEGIN:STANDARD
TZOFFSETFROM:-0700
TZOFFSETTO:-0800
TZNAME:PST
DTSTART:20161106T090000
END:STANDARD
BEGIN:DAYLIGHT
TZOFFSETFROM:-0800
TZOFFSETTO:-0700
TZNAME:PDT
DTSTART:20170312T100000
END:DAYLIGHT
BEGIN:STANDARD
TZOFFSETFROM:-0700
TZOFFSETTO:-0800
TZNAME:PST
DTSTART:20171105T090000
END:STANDARD
BEGIN:DAYLIGHT
TZOFFSETFROM:-0800
TZOFFSETTO:-0700
TZNAME:PDT
DTSTART:20180311T100000
END:DAYLIGHT
BEGIN:STANDARD
TZOFFSETFROM:-0700
TZOFFSETTO:-0800
TZNAME:PST
DTSTART:20181104T090000
END:STANDARD
BEGIN:DAYLIGHT
TZOFFSETFROM:-0800
TZOFFSETTO:-0700
TZNAME:PDT
DTSTART:20190310T100000
END:DAYLIGHT
BEGIN:STANDARD
TZOFFSETFROM:-0700
TZOFFSETTO:-0800
TZNAME:PST
DTSTART:20191103T090000
END:STANDARD
BEGIN:DAYLIGHT
TZOFFSETFROM:-0800
TZOFFSETTO:-0700
TZNAME:PDT
DTSTART:20200308T100000
END:DAYLIGHT
BEGIN:STANDARD
TZOFFSETFROM:-0700
TZOFFSETTO:-0800
TZNAME:PST
DTSTART:20201101T090000
END:STANDARD
END:VTIMEZONE
BEGIN:VEVENT
DTSTART;VALUE=DATE:20191113
DTEND;VALUE=DATE:20191114
DTSTAMP:20260423T050119
CREATED:20180602T111010Z
LAST-MODIFIED:20190916T044250Z
UID:10008914-1573603200-1573689599@www.imsb.org
SUMMARY:Weekend Retreat in Texas
DESCRIPTION:Path of Wisdom and Awakening\nAn Insight Meditation Retreat\nwith Shaila Catherine\nNovember 13-17\, 2019 \nLed by Shaila Catherine \nThis silent retreat offers practical instruction in mindfulness\, concentration\, and insight meditation practice (vipassana). Through developing mindfulness of breath\, body\, feelings\, and mind\, meditators will find that habitual judgments\, fear\, and craving will fall away\, and the natural spaciousness of a mind imbued with wisdom and joy will be revealed. By cultivating calm\, balanced awareness\, we can dissolve any suffering that may entangle our hearts\, and discover our freedom in the midst of things. \nInstructions in sitting and walking meditation\, consultations with the teacher\, and daily dharma teachings make this retreat suitable for both new and experienced practitioners. \nIt will be held at the Margaret Austin Retreat Center in Texas which is mid-way between Austin and Houston. \nRegistration will open approximately 6 weeks prior to the start of the retreat. \nFor details and registration information visit the Mariposa Sangha website at: https://mariposasangha.org/wisdom-and-awakening/
URL:https://www.imsb.org/event/weekend-retreat-in-texas/
LOCATION:Margaret Austin Retreat Center\, 6650 County Road 117\, Chappell Hill\, TX\, 77426\, United States
CATEGORIES:Retreats with Shaila
ORGANIZER;CN="Kathey at Mariposa Sangha":MAILTO:Click the link under organizer.
GEO:30.1163989;-96.2119961
X-APPLE-STRUCTURED-LOCATION;VALUE=URI;X-ADDRESS=Margaret Austin Retreat Center 6650 County Road 117 Chappell Hill TX 77426 United States;X-APPLE-RADIUS=500;X-TITLE=6650 County Road 117:geo:-96.2119961,30.1163989
END:VEVENT
BEGIN:VEVENT
DTSTART;VALUE=DATE:20181227
DTEND;VALUE=DATE:20190102
DTSTAMP:20260423T050119
CREATED:20170810T015938Z
LAST-MODIFIED:20180805T230555Z
UID:10008782-1545868800-1546387199@www.imsb.org
SUMMARY:Annual New Year's Retreat in Texas with Shaila Catherine
DESCRIPTION:Energy\, Effort\, and Ease\nAn Insight Meditation retreat led by Shaila Catherine\nDecember 27\, 2018 to January 1\, 2019 \nThis insight retreat will emphasize skills for developing Right Effort to support mindfulness\, concentration\, and insight. By learning to use our energies wisely\, we can set down the burden of competitive striving\, infuse our activities with ease\, cultivate balanced beautiful qualities\, open to a fresh and free way of engaging with experience\, and incline the mind toward profound peace. \nThe factor of effort is included in many of the most important Buddhist Lists including the Noble Eight-fold Path\, the Seven Factors of Awakening\, The Five Faculties\, The Five Powers\, and the Four Bases of Success. Morning instructions on this retreat will explore effort as described in the Sammappadhāna Samyutta\, The Connected Discourses on Right Striving (SN 49.1). This brief teaching presents a flexible four-part approach to skillfully meeting situations\, in life and in formal meditation practice. \nThis retreat is appropriate for both new and experienced practitioners. It will include group meditation instructions\, dharma teachings\, and either group or individual consultations with the teacher. \nThis residential meditation retreat will be held at the Margaret Austin Center in Texas. It is mid-way between Austin and Houston. \nRegistration will open approximately 6 weeks prior to the start of the retreat. \nFor details visit the Mariposa Sangha website at: https://mariposasangha.org/residential-retreats/
URL:https://www.imsb.org/event/annual-new-years-retreat-in-texas-with-shaila-catherine-2/
LOCATION:Margaret Austin Retreat Center\, 6650 County Road 117\, Chappell Hill\, TX\, 77426\, United States
CATEGORIES:Retreats with Shaila
GEO:30.1163989;-96.2119961
X-APPLE-STRUCTURED-LOCATION;VALUE=URI;X-ADDRESS=Margaret Austin Retreat Center 6650 County Road 117 Chappell Hill TX 77426 United States;X-APPLE-RADIUS=500;X-TITLE=6650 County Road 117:geo:-96.2119961,30.1163989
END:VEVENT
BEGIN:VEVENT
DTSTART;VALUE=DATE:20171227
DTEND;VALUE=DATE:20171228
DTSTAMP:20260423T050119
CREATED:20170214T191129Z
LAST-MODIFIED:20171112T164549Z
UID:10008748-1514332800-1514419199@www.imsb.org
SUMMARY:Annual New Year's Retreat in Texas with Shaila Catherine Dec 27 - Jan 1
DESCRIPTION:December 27\, 2017 – January 1\, 2018 \nRetreat Theme: Strategies for Overcoming Distracting Thoughts \nMental restlessness is an insidious and pervasive hindrance that all practitioners struggle to overcome. We can refine our skills for working with the modes of thinking that distract us from being mindful: critical thoughts\, planning\, worrying\, lustful thoughts\, judging\, memories\, internal commentaries\, to name a few. The teachings on this retreat will present a sequence of strategies for dealing with obstructive mental patterns; these instructions will follow two discourses taught by the Buddha and recorded in the Middle Length Discourses\, (suttas 19 and 20). Practitioners will be encouraged to develop a mindfulness-based meditation practice\, while exploring these strategies for overcoming distractions.\nThis retreat is suitable for both new and experienced practitioners. \nIt will be an insight meditation residential retreat at the Margaret Austin Center in Texas. It is mid-way between Austin and Houston. \nRegistration will open approximately 6 weeks prior to the start of the retreat. \nFor details visit the Mariposa Sangha website at:  https://mariposasangha.org/strategies-overcoming-distracting-thoughts-insight-meditation-retreat-shaila-catherine/
URL:https://www.imsb.org/event/annual-new-years-retreat-in-texas-with-shaila-catherine-dec-27-jan-1/
LOCATION:Margaret Austin Retreat Center\, 6650 County Road 117\, Chappell Hill\, TX\, 77426\, United States
CATEGORIES:Retreats with Shaila
GEO:30.1163989;-96.2119961
X-APPLE-STRUCTURED-LOCATION;VALUE=URI;X-ADDRESS=Margaret Austin Retreat Center 6650 County Road 117 Chappell Hill TX 77426 United States;X-APPLE-RADIUS=500;X-TITLE=6650 County Road 117:geo:-96.2119961,30.1163989
END:VEVENT
BEGIN:VEVENT
DTSTART;VALUE=DATE:20161227
DTEND;VALUE=DATE:20161228
DTSTAMP:20260423T050119
CREATED:20160809T130024Z
LAST-MODIFIED:20160809T130024Z
UID:10008673-1482796800-1482883199@www.imsb.org
SUMMARY:Annual New Year's Retreat in Texas with Shaila Catherine
DESCRIPTION:Dec. 27\, 2016 – Jan. 1\, 2017. \nShaila Catherine will be leading an insight meditation residential retreat at the Margaret Austin Center in Texas. It is mid-way between Austin and Houston. \nRegistration will open Nov. 7\, 2016. \nFor details visit the Mariposa Sangha website at: https://mariposasangha.org/residential-retreats/
URL:https://www.imsb.org/event/annual-new-years-retreat-in-texas-with-shaila-catherine/
LOCATION:Margaret Austin Retreat Center\, 6650 County Road 117\, Chappell Hill\, TX\, 77426\, United States
CATEGORIES:Retreats with Shaila
ORGANIZER;CN="Kathey at Mariposa Sangha":MAILTO:Click the link under organizer.
GEO:30.1163989;-96.2119961
X-APPLE-STRUCTURED-LOCATION;VALUE=URI;X-ADDRESS=Margaret Austin Retreat Center 6650 County Road 117 Chappell Hill TX 77426 United States;X-APPLE-RADIUS=500;X-TITLE=6650 County Road 117:geo:-96.2119961,30.1163989
END:VEVENT
BEGIN:VEVENT
DTSTART;VALUE=DATE:20151227
DTEND;VALUE=DATE:20160103
DTSTAMP:20260423T050119
CREATED:20150109T033016Z
LAST-MODIFIED:20170216T173525Z
UID:10008574-1451174400-1451779199@www.imsb.org
SUMMARY:Retreat: New Year's in Texas
DESCRIPTION:A 6 night retreat with Shaila Catherine \nMindful Investigation \nAlthough meditation is renowned for promoting tranquility and mental calmness\, meditation is not passive. Investigative methods play a vital role in the skillful development of liberating insight. Specific instructions for examining the mind feature prominently in the core teachings of Satipatthana\, and many early Buddhist discourses. This insight meditation retreat will explore the fourth foundation of mindfulness with an emphasis on meditative investigation. We will examine the quality of our minds\, and come to understand how we might meet life’s experiences free from suffering.
URL:https://www.imsb.org/event/retreat-new-years-in-texas/
LOCATION:Margaret Austin Retreat Center\, 6650 County Road 117\, Chappell Hill\, TX\, 77426\, United States
CATEGORIES:Not an IMSB event,Retreats with Shaila
ORGANIZER;CN="Kathey at Mariposa Sangha":MAILTO:Click the link under organizer.
GEO:30.1163989;-96.2119961
X-APPLE-STRUCTURED-LOCATION;VALUE=URI;X-ADDRESS=Margaret Austin Retreat Center 6650 County Road 117 Chappell Hill TX 77426 United States;X-APPLE-RADIUS=500;X-TITLE=6650 County Road 117:geo:-96.2119961,30.1163989
END:VEVENT
BEGIN:VEVENT
DTSTART;VALUE=DATE:20141227
DTEND;VALUE=DATE:20150104
DTSTAMP:20260423T050119
CREATED:20140819T093229Z
LAST-MODIFIED:20170216T173535Z
UID:10004818-1419638400-1420329599@www.imsb.org
SUMMARY:New Year's Retreat–Texas
DESCRIPTION:Two options for attendance: Saturday\, Dec. 27\, 2014 – Saturday\, Jan. 3\, 2015. \nor Partial attendance December 27\, 2014 – January 1\, 2015. \nThe theme of this silent New Year’s holiday retreat is the Four Foundations of Mindfulness (Satipatthana Sutta). Many practitioners consider the Satipatthana Sutta to be among the most important and practical teachings of the Early Discourses of the Buddha. It offers pragmatic instructions for establishing mindfulness with attention to body\, feelings\, mind\, and various dhamma objects\, and frames the practice of mindfulness with the aim of awakening. This single discourse is a rich resource for meditators at all levels of experience—from beginning meditators who seek support and structure for establishing a basic practice to advanced practitioners who wish to intensify their commitment\, clarify their goal\, and refine their skills.This silent retreat is structured with alternating periods of sitting and walking meditation\, dhamma talks\, question and answer sessions\, and teacher consultations. All levels from beginners to advanced practitioners are welcome. \nThis insight meditation retreat is sponsored and coordinated by Mariposa Sangha. \n 
URL:https://www.imsb.org/event/new-years-retreat-developing-the-four-foundations-of-mindfulness-with-shaila-catherine/
LOCATION:Margaret Austin Retreat Center\, 6650 County Road 117\, Chappell Hill\, TX\, 77426\, United States
CATEGORIES:Not an IMSB event,Retreats with Shaila
ORGANIZER;CN="Kathey at Mariposa Sangha":MAILTO:Click the link under organizer.
GEO:30.1163989;-96.2119961
X-APPLE-STRUCTURED-LOCATION;VALUE=URI;X-ADDRESS=Margaret Austin Retreat Center 6650 County Road 117 Chappell Hill TX 77426 United States;X-APPLE-RADIUS=500;X-TITLE=6650 County Road 117:geo:-96.2119961,30.1163989
END:VEVENT
END:VCALENDAR